Back to Multiple platform build/check report for BioC 3.14
ABCDEFGHIJKL[M]NOPQRSTUVWXYZ

This page was generated on 2021-11-29 15:04:37 -0500 (Mon, 29 Nov 2021).

All results for package multtest

To the developers/maintainers of the multtest package:
- Please allow up to 24 hours (and sometimes 48 hours) for your latest push to git@git.bioconductor.org:packages/multtest.git to
reflect on this report. See How and When does the builder pull? When will my changes propagate? here for more information.
- Make sure to use the following settings in order to reproduce any error or warning you see on this page.

raw results

Package 1250/2083HostnameOS / ArchINSTALLBUILDCHECKBUILD BIN
multtest 2.50.0  (landing page)
Katherine S. Pollard
Snapshot Date: 2021-11-28 04:15:06 -0500 (Sun, 28 Nov 2021)
git_url: https://git.bioconductor.org/packages/multtest
git_branch: RELEASE_3_14
git_last_commit: 1de9664
git_last_commit_date: 2021-10-26 11:45:35 -0500 (Tue, 26 Oct 2021)
nebbiolo2Linux (Ubuntu 20.04.3 LTS) / x86_64  OK    OK    WARNINGS  UNNEEDED, same version is already published
tokay2Windows Server 2012 R2 Standard / x64  OK    OK    WARNINGS    OK  UNNEEDED, same version is already published
machv2macOS 10.14.6 Mojave / x86_64  OK    OK    WARNINGS    OK  UNNEEDED, same version is already published

Results for Bioconductor software packages that depend directly on package multtest

QUICK STATSOS / ArchINSTALLBUILDCHECKBUILD BIN
nebbiolo2Linux (Ubuntu 20.04.3 LTS) / x86_64
0027
0126
00422
tokay2Windows Server 2012 R2 Standard / x64
0027
0027
01422
0027
machv2macOS 10.14.6 Mojave / x86_64
0027
0027
00423
0027
Package 1/27HostnameOS / ArchINSTALLBUILDCHECKBUILD BIN
a4Base 1.42.0  (landing page)
Laure Cougnaud
git_last_commit: d7296e2
git_last_commit_date: 2021-10-26 11:58:47 -0500
nebbiolo2Linux (Ubuntu 20.04.3 LTS) / x86_64  OK    OK    OK  UNNEEDED, same version is already published
tokay2Windows Server 2012 R2 Standard / x64  OK    OK    OK    OK  UNNEEDED, same version is already published
machv2macOS 10.14.6 Mojave / x86_64  OK    OK    OK    OK  UNNEEDED, same version is already published
Package 2/27HostnameOS / ArchINSTALLBUILDCHECKBUILD BIN
ABarray 1.62.0  (landing page)
Yongming Andrew Sun
git_last_commit: b46ddfc
git_last_commit_date: 2021-10-26 11:49:58 -0500
nebbiolo2Linux (Ubuntu 20.04.3 LTS) / x86_64  OK    OK    OK  UNNEEDED, same version is already published
tokay2Windows Server 2012 R2 Standard / x64  OK    OK    OK    OK  UNNEEDED, same version is already published
machv2macOS 10.14.6 Mojave / x86_64  OK    OK    OK    OK  UNNEEDED, same version is already published
Package 3/27HostnameOS / ArchINSTALLBUILDCHECKBUILD BIN
aCGH 1.72.0  (landing page)
Peter Dimitrov
git_last_commit: b5d4022
git_last_commit_date: 2021-10-26 11:47:03 -0500
nebbiolo2Linux (Ubuntu 20.04.3 LTS) / x86_64  OK    OK    OK  UNNEEDED, same version is already published
tokay2Windows Server 2012 R2 Standard / x64  OK    OK    OK    OK  UNNEEDED, same version is already published
machv2macOS 10.14.6 Mojave / x86_64  OK    OK    OK    OK  UNNEEDED, same version is already published
Package 4/27HostnameOS / ArchINSTALLBUILDCHECKBUILD BIN
adSplit 1.64.0  (landing page)
Claudio Lottaz
git_last_commit: 32f150e
git_last_commit_date: 2021-10-26 11:49:19 -0500
nebbiolo2Linux (Ubuntu 20.04.3 LTS) / x86_64  OK    OK    OK  UNNEEDED, same version is already published
tokay2Windows Server 2012 R2 Standard / x64  OK    OK    OK    OK  UNNEEDED, same version is already published
machv2macOS 10.14.6 Mojave / x86_64  OK    OK    OK    OK  UNNEEDED, same version is already published
Package 5/27HostnameOS / ArchINSTALLBUILDCHECKBUILD BIN
ALDEx2 1.26.0  (landing page)
Greg Gloor
git_last_commit: 0876a2e
git_last_commit_date: 2021-10-26 12:16:13 -0500
nebbiolo2Linux (Ubuntu 20.04.3 LTS) / x86_64  OK    OK    OK  UNNEEDED, same version is already published
tokay2Windows Server 2012 R2 Standard / x64  OK    OK    OK    OK  UNNEEDED, same version is already published
machv2macOS 10.14.6 Mojave / x86_64  OK    OK    OK    OK  UNNEEDED, same version is already published
Package 6/27HostnameOS / ArchINSTALLBUILDCHECKBUILD BIN
anota 1.42.0  (landing page)
Ola Larsson
git_last_commit: 2ec6d93
git_last_commit_date: 2021-10-26 11:59:04 -0500
nebbiolo2Linux (Ubuntu 20.04.3 LTS) / x86_64  OK    OK    OK  UNNEEDED, same version is already published
tokay2Windows Server 2012 R2 Standard / x64  OK    OK    OK    OK  UNNEEDED, same version is already published
machv2macOS 10.14.6 Mojave / x86_64  OK    OK    OK    OK  UNNEEDED, same version is already published
Package 7/27HostnameOS / ArchINSTALLBUILDCHECKBUILD BIN
anota2seq 1.16.0  (landing page)
Christian Oertlin , Julie Lorent
git_last_commit: 9340b34
git_last_commit_date: 2021-10-26 12:38:52 -0500
nebbiolo2Linux (Ubuntu 20.04.3 LTS) / x86_64  OK    OK    OK  UNNEEDED, same version is already published
tokay2Windows Server 2012 R2 Standard / x64  OK    OK    OK    OK  UNNEEDED, same version is already published
machv2macOS 10.14.6 Mojave / x86_64  OK    OK    OK    OK  UNNEEDED, same version is already published
Package 8/27HostnameOS / ArchINSTALLBUILDCHECKBUILD BIN
BicARE 1.52.0  (landing page)
Pierre Gestraud
git_last_commit: 1c04ed8
git_last_commit_date: 2021-10-26 11:53:14 -0500
nebbiolo2Linux (Ubuntu 20.04.3 LTS) / x86_64  OK    OK    OK  UNNEEDED, same version is already published
tokay2Windows Server 2012 R2 Standard / x64  OK    OK    OK    OK  UNNEEDED, same version is already published
machv2macOS 10.14.6 Mojave / x86_64  OK    OK    OK    OK  UNNEEDED, same version is already published
Package 9/27HostnameOS / ArchINSTALLBUILDCHECKBUILD BIN
ChIPpeakAnno 3.28.0  (landing page)
Jianhong Ou
git_last_commit: da1bfa1
git_last_commit_date: 2021-10-26 11:54:17 -0500
nebbiolo2Linux (Ubuntu 20.04.3 LTS) / x86_64  OK    OK    OK  UNNEEDED, same version is already published
tokay2Windows Server 2012 R2 Standard / x64  OK    OK    OK    OK  UNNEEDED, same version is already published
machv2macOS 10.14.6 Mojave / x86_64  OK    OK    OK    OK  UNNEEDED, same version is already published
Package 10/27HostnameOS / ArchINSTALLBUILDCHECKBUILD BIN
iPAC 1.38.0  (landing page)
Gregory Ryslik
git_last_commit: e34e9ed
git_last_commit_date: 2021-10-26 12:03:56 -0500
nebbiolo2Linux (Ubuntu 20.04.3 LTS) / x86_64  OK    OK    OK  UNNEEDED, same version is already published
tokay2Windows Server 2012 R2 Standard / x64  OK    OK    OK    OK  UNNEEDED, same version is already published
machv2macOS 10.14.6 Mojave / x86_64  OK    OK    OK    OK  UNNEEDED, same version is already published
Package 11/27HostnameOS / ArchINSTALLBUILDCHECKBUILD BIN
IsoGeneGUI 2.30.0  (landing page)
Setia Pramana
git_last_commit: 55c03bf
git_last_commit_date: 2021-10-26 11:56:33 -0500
nebbiolo2Linux (Ubuntu 20.04.3 LTS) / x86_64  OK    OK    OK  UNNEEDED, same version is already published
tokay2Windows Server 2012 R2 Standard / x64  OK    OK    OK    OK  UNNEEDED, same version is already published
machv2macOS 10.14.6 Mojave / x86_64  OK    OK    OK    OK  UNNEEDED, same version is already published
Package 12/27HostnameOS / ArchINSTALLBUILDCHECKBUILD BIN
KCsmart 2.52.0  (landing page)
Jorma de Ronde
git_last_commit: e6b33a9
git_last_commit_date: 2021-10-26 11:53:01 -0500
nebbiolo2Linux (Ubuntu 20.04.3 LTS) / x86_64  OK    OK    WARNINGS  UNNEEDED, same version is already published
tokay2Windows Server 2012 R2 Standard / x64  OK    OK    WARNINGS    OK  UNNEEDED, same version is already published
machv2macOS 10.14.6 Mojave / x86_64  OK    OK    WARNINGS    OK  UNNEEDED, same version is already published
Package 13/27HostnameOS / ArchINSTALLBUILDCHECKBUILD BIN
mAPKL 1.24.0  (landing page)
Argiris Sakellariou
git_last_commit: b9e43cb
git_last_commit_date: 2021-10-26 12:18:26 -0500
nebbiolo2Linux (Ubuntu 20.04.3 LTS) / x86_64  OK    OK    OK  UNNEEDED, same version is already published
tokay2Windows Server 2012 R2 Standard / x64  OK    OK    OK    OK  UNNEEDED, same version is already published
machv2macOS 10.14.6 Mojave / x86_64  OK    OK    OK    OK  UNNEEDED, same version is already published
Package 14/27HostnameOS / ArchINSTALLBUILDCHECKBUILD BIN
metabomxtr 1.28.0  (landing page)
Michael Nodzenski
git_last_commit: dd76cf2
git_last_commit_date: 2021-10-26 12:15:03 -0500
nebbiolo2Linux (Ubuntu 20.04.3 LTS) / x86_64  OK    OK    OK  UNNEEDED, same version is already published
tokay2Windows Server 2012 R2 Standard / x64  OK    OK    OK    OK  UNNEEDED, same version is already published
machv2macOS 10.14.6 Mojave / x86_64  OK    OK    OK    OK  UNNEEDED, same version is already published
Package 15/27HostnameOS / ArchINSTALLBUILDCHECKBUILD BIN
microbiomeMarker 1.0.1  (landing page)
Yang Cao
git_last_commit: d4852b9
git_last_commit_date: 2021-11-08 03:46:16 -0500
nebbiolo2Linux (Ubuntu 20.04.3 LTS) / x86_64  OK    OK    OK  UNNEEDED, same version is already published
tokay2Windows Server 2012 R2 Standard / x64  OK    OK    OK    OK  UNNEEDED, same version is already published
machv2macOS 10.14.6 Mojave / x86_64  OK    OK    OK    OK  UNNEEDED, same version is already published
Package 16/27HostnameOS / ArchINSTALLBUILDCHECKBUILD BIN
nethet 1.26.0  (landing page)
Nicolas Staedler
git_last_commit: b1233b3
git_last_commit_date: 2021-10-26 12:18:03 -0500
nebbiolo2Linux (Ubuntu 20.04.3 LTS) / x86_64  OK    OK    WARNINGS  UNNEEDED, same version is already published
tokay2Windows Server 2012 R2 Standard / x64  OK    OK    WARNINGS    OK  UNNEEDED, same version is already published
machv2macOS 10.14.6 Mojave / x86_64  OK    OK    WARNINGS    OK  UNNEEDED, same version is already published
Package 17/27HostnameOS / ArchINSTALLBUILDCHECKBUILD BIN
OCplus 1.68.0  (landing page)
Alexander Ploner
git_last_commit: 17e0e51
git_last_commit_date: 2021-10-26 11:49:30 -0500
nebbiolo2Linux (Ubuntu 20.04.3 LTS) / x86_64  OK    OK    OK  UNNEEDED, same version is already published
tokay2Windows Server 2012 R2 Standard / x64  OK    OK    OK    OK  UNNEEDED, same version is already published
machv2macOS 10.14.6 Mojave / x86_64  OK    OK    OK    OK  UNNEEDED, same version is already published
Package 18/27HostnameOS / ArchINSTALLBUILDCHECKBUILD BIN
phyloseq 1.38.0  (landing page)
Paul J. McMurdie
git_last_commit: 1e2409a
git_last_commit_date: 2021-10-26 12:01:53 -0500
nebbiolo2Linux (Ubuntu 20.04.3 LTS) / x86_64  OK    OK    OK  UNNEEDED, same version is already published
tokay2Windows Server 2012 R2 Standard / x64  OK    OK    OK    OK  UNNEEDED, same version is already published
machv2macOS 10.14.6 Mojave / x86_64  OK    OK    OK    OK  UNNEEDED, same version is already published
Package 19/27HostnameOS / ArchINSTALLBUILDCHECKBUILD BIN
PREDA 1.40.0  (landing page)
Francesco Ferrari
git_last_commit: 65d1da0
git_last_commit_date: 2021-10-26 11:59:54 -0500
nebbiolo2Linux (Ubuntu 20.04.3 LTS) / x86_64  OK    OK    WARNINGS  UNNEEDED, same version is already published
tokay2Windows Server 2012 R2 Standard / x64  OK    OK    WARNINGS    OK  UNNEEDED, same version is already published
machv2macOS 10.14.6 Mojave / x86_64  OK    OK    WARNINGS    OK  UNNEEDED, same version is already published
Package 20/27HostnameOS / ArchINSTALLBUILDCHECKBUILD BIN
rain 1.28.0  (landing page)
Paul F. Thaben
git_last_commit: 2451fb4
git_last_commit_date: 2021-10-26 12:15:45 -0500
nebbiolo2Linux (Ubuntu 20.04.3 LTS) / x86_64  OK    OK    OK  UNNEEDED, same version is already published
tokay2Windows Server 2012 R2 Standard / x64  OK    OK    OK    OK  UNNEEDED, same version is already published
machv2macOS 10.14.6 Mojave / x86_64  OK    OK    OK    OK  UNNEEDED, same version is already published
Package 21/27HostnameOS / ArchINSTALLBUILDCHECKBUILD BIN
REDseq 1.40.0  (landing page)
Lihua Julie Zhu
git_last_commit: a5a0e6d
git_last_commit_date: 2021-10-26 11:59:14 -0500
nebbiolo2Linux (Ubuntu 20.04.3 LTS) / x86_64  OK    OK    OK  UNNEEDED, same version is already published
tokay2Windows Server 2012 R2 Standard / x64  OK    OK    OK    OK  UNNEEDED, same version is already published
machv2macOS 10.14.6 Mojave / x86_64  OK    OK    OK    OK  UNNEEDED, same version is already published
Package 22/27HostnameOS / ArchINSTALLBUILDCHECKBUILD BIN
RTopper 1.40.0  (landing page)
Luigi Marchionni
git_last_commit: 7c04896
git_last_commit_date: 2021-10-26 12:00:18 -0500
nebbiolo2Linux (Ubuntu 20.04.3 LTS) / x86_64  OK    OK    OK  UNNEEDED, same version is already published
tokay2Windows Server 2012 R2 Standard / x64  OK    OK    OK    OK  UNNEEDED, same version is already published
machv2macOS 10.14.6 Mojave / x86_64  OK    OK    OK    OK  UNNEEDED, same version is already published
Package 23/27HostnameOS / ArchINSTALLBUILDCHECKBUILD BIN
siggenes 1.68.0  (landing page)
Holger Schwender
git_last_commit: a29bf02
git_last_commit_date: 2021-10-26 11:46:06 -0500
nebbiolo2Linux (Ubuntu 20.04.3 LTS) / x86_64  OK    OK    OK  UNNEEDED, same version is already published
tokay2Windows Server 2012 R2 Standard / x64  OK    OK    OK    OK  UNNEEDED, same version is already published
machv2macOS 10.14.6 Mojave / x86_64  OK    OK    OK    OK  UNNEEDED, same version is already published
Package 24/27HostnameOS / ArchINSTALLBUILDCHECKBUILD BIN
SingleCellSignalR 1.6.0  (landing page)
Jacques Colinge
git_last_commit: dd12f95
git_last_commit_date: 2021-10-26 12:59:34 -0500
nebbiolo2Linux (Ubuntu 20.04.3 LTS) / x86_64  OK    OK    WARNINGS  UNNEEDED, same version is already published
tokay2Windows Server 2012 R2 Standard / x64  OK    OK    WARNINGS    OK  UNNEEDED, same version is already published
machv2macOS 10.14.6 Mojave / x86_64  OK    OK    WARNINGS    OK  UNNEEDED, same version is already published
Package 25/27HostnameOS / ArchINSTALLBUILDCHECKBUILD BIN
singleCellTK 2.4.0  (landing page)
Yichen Wang
git_last_commit: 91f98fc
git_last_commit_date: 2021-10-27 11:24:49 -0500
nebbiolo2Linux (Ubuntu 20.04.3 LTS) / x86_64  OK    OK    OK  UNNEEDED, same version is already published
tokay2Windows Server 2012 R2 Standard / x64  OK    OK    ERROR    OK  
machv2macOS 10.14.6 Mojave / x86_64  OK    OK    OK    OK  UNNEEDED, same version is already published
Package 26/27HostnameOS / ArchINSTALLBUILDCHECKBUILD BIN
synapter 2.18.0  (landing page)
Laurent Gatto
git_last_commit: 1ee8f37
git_last_commit_date: 2021-10-26 12:03:45 -0500
nebbiolo2Linux (Ubuntu 20.04.3 LTS) / x86_64  OK    ERROR  skipped
tokay2Windows Server 2012 R2 Standard / x64  OK    OK    OK    OK  UNNEEDED, same version is already published
machv2macOS 10.14.6 Mojave / x86_64  OK    OK    OK    OK  UNNEEDED, same version is already published
Package 27/27HostnameOS / ArchINSTALLBUILDCHECKBUILD BIN
webbioc 1.66.0  (landing page)
Colin A. Smith
git_last_commit: bbe6a8c
git_last_commit_date: 2021-10-26 11:46:21 -0500
nebbiolo2Linux (Ubuntu 20.04.3 LTS) / x86_64  OK    OK    OK  UNNEEDED, same version is already published
tokay2Windows Server 2012 R2 Standard / x64  OK    OK    OK    OK  UNNEEDED, same version is already published
machv2macOS 10.14.6 Mojave / x86_64  OK    OK    OK    OK  UNNEEDED, same version is already published