Back to Multiple platform build/check report for BioC 3.14
[A]BCDEFGHIJKLMNOPQRSTUVWXYZ

This page was generated on 2021-12-06 13:04:18 -0500 (Mon, 06 Dec 2021).

All results for package aCGH

To the developers/maintainers of the aCGH package:
- Please allow up to 24 hours (and sometimes 48 hours) for your latest push to git@git.bioconductor.org:packages/aCGH.git to
reflect on this report. See How and When does the builder pull? When will my changes propagate? here for more information.
- Make sure to use the following settings in order to reproduce any error or warning you see on this page.

raw results

Package 13/2083HostnameOS / ArchINSTALLBUILDCHECKBUILD BIN
aCGH 1.72.0  (landing page)
Peter Dimitrov
Snapshot Date: 2021-12-05 01:55:05 -0500 (Sun, 05 Dec 2021)
git_url: https://git.bioconductor.org/packages/aCGH
git_branch: RELEASE_3_14
git_last_commit: b5d4022
git_last_commit_date: 2021-10-26 11:47:03 -0500 (Tue, 26 Oct 2021)
nebbiolo2Linux (Ubuntu 20.04.3 LTS) / x86_64  OK    OK    OK  UNNEEDED, same version is already published
tokay2Windows Server 2012 R2 Standard / x64  OK    OK    OK    OK  UNNEEDED, same version is already published
machv2macOS 10.14.6 Mojave / x86_64  OK    OK    OK    OK  UNNEEDED, same version is already published

Results for Bioconductor software packages that depend directly on package aCGH

QUICK STATSOS / ArchINSTALLBUILDCHECKBUILD BIN
nebbiolo2Linux (Ubuntu 20.04.3 LTS) / x86_64
004
004
0004
tokay2Windows Server 2012 R2 Standard / x64
004
004
0004
004
machv2macOS 10.14.6 Mojave / x86_64
004
004
0004
004
Package 1/4HostnameOS / ArchINSTALLBUILDCHECKBUILD BIN
ADaCGH2 2.34.0  (landing page)
Ramon Diaz-Uriarte
git_last_commit: 876bbc3
git_last_commit_date: 2021-10-26 11:57:27 -0500
nebbiolo2Linux (Ubuntu 20.04.3 LTS) / x86_64  OK    OK    OK  UNNEEDED, same version is already published
tokay2Windows Server 2012 R2 Standard / x64  OK    OK    OK    OK  UNNEEDED, same version is already published
machv2macOS 10.14.6 Mojave / x86_64  OK    OK    OK    OK  UNNEEDED, same version is already published
Package 2/4HostnameOS / ArchINSTALLBUILDCHECKBUILD BIN
CRImage 1.42.0  (landing page)
Henrik Failmezger , Yinyin Yuan
git_last_commit: 7a30984
git_last_commit_date: 2021-10-26 11:57:17 -0500
nebbiolo2Linux (Ubuntu 20.04.3 LTS) / x86_64  OK    OK    OK  UNNEEDED, same version is already published
tokay2Windows Server 2012 R2 Standard / x64  OK    OK    OK    OK  UNNEEDED, same version is already published
machv2macOS 10.14.6 Mojave / x86_64  OK    OK    OK    OK  UNNEEDED, same version is already published
Package 3/4HostnameOS / ArchINSTALLBUILDCHECKBUILD BIN
rCGH 1.24.0  (landing page)
Frederic Commo
git_last_commit: ee2a9d3
git_last_commit_date: 2021-10-26 12:21:28 -0500
nebbiolo2Linux (Ubuntu 20.04.3 LTS) / x86_64  OK    OK    OK  UNNEEDED, same version is already published
tokay2Windows Server 2012 R2 Standard / x64  OK    OK    OK    OK  UNNEEDED, same version is already published
machv2macOS 10.14.6 Mojave / x86_64  OK    OK    OK    OK  UNNEEDED, same version is already published
Package 4/4HostnameOS / ArchINSTALLBUILDCHECKBUILD BIN
snapCGH 1.64.0  (landing page)
John Marioni
git_last_commit: dc77b07
git_last_commit_date: 2021-10-26 11:49:07 -0500
nebbiolo2Linux (Ubuntu 20.04.3 LTS) / x86_64  OK    OK    OK  UNNEEDED, same version is already published
tokay2Windows Server 2012 R2 Standard / x64  OK    OK    OK    OK  UNNEEDED, same version is already published
machv2macOS 10.14.6 Mojave / x86_64  OK    OK    OK    OK  UNNEEDED, same version is already published