Back to Multiple platform build/check report for BioC 3.14
ABCDEFGHIJKLMNOPQR[S]TUVWXYZ

This page was generated on 2022-01-19 13:07:22 -0500 (Wed, 19 Jan 2022).

HostnameOSArch (*)R versionInstalled pkgs
nebbiolo2Linux (Ubuntu 20.04.4 LTS)x86_644.1.2 (2021-11-01) -- "Bird Hippie" 4328
tokay2Windows Server 2012 R2 Standardx644.1.2 (2021-11-01) -- "Bird Hippie" 4077
machv2macOS 10.14.6 Mojavex86_644.1.2 (2021-11-01) -- "Bird Hippie" 4138
Click on any hostname to see more info about the system (e.g. compilers)      (*) as reported by 'uname -p', except on Windows and Mac OS X

BUILD results for SELEX on tokay2


To the developers/maintainers of the SELEX package:
- Please allow up to 24 hours (and sometimes 48 hours) for your latest push to git@git.bioconductor.org:packages/SELEX.git to
reflect on this report. See How and When does the builder pull? When will my changes propagate? here for more information.
- Make sure to use the following settings in order to reproduce any error or warning you see on this page.

raw results

Package 1757/2083HostnameOS / ArchINSTALLBUILDCHECKBUILD BIN
SELEX 1.26.0  (landing page)
Harmen J. Bussemaker
Snapshot Date: 2022-01-18 01:55:07 -0500 (Tue, 18 Jan 2022)
git_url: https://git.bioconductor.org/packages/SELEX
git_branch: RELEASE_3_14
git_last_commit: cd751a9
git_last_commit_date: 2021-10-26 12:18:53 -0500 (Tue, 26 Oct 2021)
nebbiolo2Linux (Ubuntu 20.04.4 LTS) / x86_64  OK    OK    OK  UNNEEDED, same version is already published
tokay2Windows Server 2012 R2 Standard / x64  OK    OK    OK    OK  UNNEEDED, same version is already published
machv2macOS 10.14.6 Mojave / x86_64  OK    OK    OK    OK  UNNEEDED, same version is already published

Summary

Package: SELEX
Version: 1.26.0
Command: chmod a+r SELEX -R && C:\Users\biocbuild\bbs-3.14-bioc\R\bin\R.exe --arch x64 CMD build --keep-empty-dirs --no-resave-data SELEX
StartedAt: 2022-01-18 13:59:51 -0500 (Tue, 18 Jan 2022)
EndedAt: 2022-01-18 14:01:16 -0500 (Tue, 18 Jan 2022)
EllapsedTime: 85.1 seconds
RetCode: 0
Status:   OK  
PackageFile: SELEX_1.26.0.tar.gz
PackageFileSize: 4.243 MiB

Command output

##############################################################################
##############################################################################
###
### Running command:
###
###   chmod a+r SELEX -R && C:\Users\biocbuild\bbs-3.14-bioc\R\bin\R.exe --arch x64 CMD build --keep-empty-dirs --no-resave-data SELEX
###
##############################################################################
##############################################################################


* checking for file 'SELEX/DESCRIPTION' ... OK
* preparing 'SELEX':
* checking DESCRIPTION meta-information ... OK
* installing the package to build vignettes
* creating vignettes ... OK
* checking for LF line-endings in source and make files and shell scripts
* checking for empty or unneeded directories
* building 'SELEX_1.26.0.tar.gz'