Back to Multiple platform build/check report for BioC 3.14
ABCDEFGHIJKLMNOPQR[S]TUVWXYZ

This page was generated on 2022-01-26 13:07:21 -0500 (Wed, 26 Jan 2022).

HostnameOSArch (*)R versionInstalled pkgs
nebbiolo2Linux (Ubuntu 20.04.4 LTS)x86_644.1.2 (2021-11-01) -- "Bird Hippie" 4329
tokay2Windows Server 2012 R2 Standardx644.1.2 (2021-11-01) -- "Bird Hippie" 4080
machv2macOS 10.14.6 Mojavex86_644.1.2 (2021-11-01) -- "Bird Hippie" 4141
Click on any hostname to see more info about the system (e.g. compilers)      (*) as reported by 'uname -p', except on Windows and Mac OS X

BUILD BIN results for SELEX on tokay2


To the developers/maintainers of the SELEX package:
- Please allow up to 24 hours (and sometimes 48 hours) for your latest push to git@git.bioconductor.org:packages/SELEX.git to
reflect on this report. See How and When does the builder pull? When will my changes propagate? here for more information.
- Make sure to use the following settings in order to reproduce any error or warning you see on this page.

raw results

Package 1757/2083HostnameOS / ArchINSTALLBUILDCHECKBUILD BIN
SELEX 1.26.0  (landing page)
Harmen J. Bussemaker
Snapshot Date: 2022-01-25 01:55:07 -0500 (Tue, 25 Jan 2022)
git_url: https://git.bioconductor.org/packages/SELEX
git_branch: RELEASE_3_14
git_last_commit: cd751a9
git_last_commit_date: 2021-10-26 12:18:53 -0500 (Tue, 26 Oct 2021)
nebbiolo2Linux (Ubuntu 20.04.4 LTS) / x86_64  OK    OK    OK  UNNEEDED, same version is already published
tokay2Windows Server 2012 R2 Standard / x64  OK    OK    OK    OK  UNNEEDED, same version is already published
machv2macOS 10.14.6 Mojave / x86_64  OK    OK    OK    OK  UNNEEDED, same version is already published

Summary

Package: SELEX
Version: 1.26.0
Command: rm -rf SELEX.buildbin-libdir && mkdir SELEX.buildbin-libdir && C:\Users\biocbuild\bbs-3.14-bioc\R\bin\R.exe --arch x64 CMD INSTALL --no-multiarch --build --library=SELEX.buildbin-libdir SELEX_1.26.0.tar.gz
StartedAt: 2022-01-26 07:04:26 -0500 (Wed, 26 Jan 2022)
EndedAt: 2022-01-26 07:04:42 -0500 (Wed, 26 Jan 2022)
EllapsedTime: 16.2 seconds
RetCode: 0
Status:   OK  
PackageFile: SELEX_1.26.0.zip
PackageFileSize: 2.823 MiB

Command output

##############################################################################
##############################################################################
###
### Running command:
###
###   rm -rf SELEX.buildbin-libdir && mkdir SELEX.buildbin-libdir && C:\Users\biocbuild\bbs-3.14-bioc\R\bin\R.exe --arch x64 CMD INSTALL --no-multiarch --build --library=SELEX.buildbin-libdir SELEX_1.26.0.tar.gz
###
##############################################################################
##############################################################################


* installing *source* package 'SELEX' ...
** using staged installation
** R
** inst
** byte-compile and prepare package for lazy loading
** help
*** installing help indices
  converting help for package 'SELEX'
    finding HTML links ... done
    SELEX                                   html  
REDIRECT:topic	 Previous alias or file overwritten by alias: C:/Users/biocbuild/bbs-3.14-bioc/meat/SELEX.buildbin-libdir/00LOCK-SELEX/00new/SELEX/help/selex.html
    selex.affinities                        html  
    selex.config                            html  
    selex.countSummary                      html  
    selex.counts                            html  
    selex.defineSample                      html  
    selex.exampledata                       html  
    selex.fastqPSFM                         html  
    selex.getAttributes                     html  
    selex.getRound0                         html  
    selex.getSeqfilter                      html  
    selex.infogain                          html  
    selex.infogainSummary                   html  
    selex.jvmStatus                         html  
    selex.kmax                              html  
    selex.kmerPSFM                          html  
    selex.loadAnnotation                    html  
    selex.mm                                html  
    selex.mmProb                            html  
    selex.mmSummary                         html  
    selex.revcomp                           html  
    selex.run                               html  
    selex.sample                            html  
    selex.samplePSFM                        html  
    selex.sampleSummary                     html  
    selex.saveAnnotation                    html  
    selex.seqfilter                         html  
    selex.setwd                             html  
    selex.split                             html  
    selex.summary                           html  
** building package indices
** installing vignettes
** testing if installed package can be loaded from temporary location
** testing if installed package can be loaded from final location
** testing if installed package keeps a record of temporary installation path
* MD5 sums
packaged installation of 'SELEX' as SELEX_1.26.0.zip
* DONE (SELEX)