Index of /checkResults/3.14/bioc-LATEST/SELEX/raw-results

[ICO]NameLast modifiedSizeDescription

[DIR]Parent Directory  -  
[   ]info.dcf20-Jan-2022 03:08 275  
[DIR]machv2/20-Jan-2022 03:08 -  
[DIR]nebbiolo2/20-Jan-2022 03:05 -  
[DIR]tokay2/20-Jan-2022 03:07 -