Back to Multiple platform build/check report for BioC 3.14
ABCDEFGHIJKLMNOP[Q]RSTUVWXYZ

This page was generated on 2022-01-21 13:08:20 -0500 (Fri, 21 Jan 2022).

HostnameOSArch (*)R versionInstalled pkgs
nebbiolo2Linux (Ubuntu 20.04.4 LTS)x86_644.1.2 (2021-11-01) -- "Bird Hippie" 4329
tokay2Windows Server 2012 R2 Standardx644.1.2 (2021-11-01) -- "Bird Hippie" 4079
machv2macOS 10.14.6 Mojavex86_644.1.2 (2021-11-01) -- "Bird Hippie" 4140
Click on any hostname to see more info about the system (e.g. compilers)      (*) as reported by 'uname -p', except on Windows and Mac OS X

BUILD results for QuaternaryProd on machv2


To the developers/maintainers of the QuaternaryProd package:
- Please allow up to 24 hours (and sometimes 48 hours) for your latest push to git@git.bioconductor.org:packages/QuaternaryProd.git to
reflect on this report. See How and When does the builder pull? When will my changes propagate? here for more information.
- Make sure to use the following settings in order to reproduce any error or warning you see on this page.

raw results

Package 1511/2083HostnameOS / ArchINSTALLBUILDCHECKBUILD BIN
QuaternaryProd 1.28.0  (landing page)
Carl Tony Fakhry
Snapshot Date: 2022-01-20 01:55:04 -0500 (Thu, 20 Jan 2022)
git_url: https://git.bioconductor.org/packages/QuaternaryProd
git_branch: RELEASE_3_14
git_last_commit: 2814921
git_last_commit_date: 2021-10-26 12:24:32 -0500 (Tue, 26 Oct 2021)
nebbiolo2Linux (Ubuntu 20.04.4 LTS) / x86_64  OK    OK    OK  UNNEEDED, same version is already published
tokay2Windows Server 2012 R2 Standard / x64  OK    OK    OK    OK  UNNEEDED, same version is already published
machv2macOS 10.14.6 Mojave / x86_64  OK    OK    OK    OK  UNNEEDED, same version is already published

Summary

Package: QuaternaryProd
Version: 1.28.0
Command: /Library/Frameworks/R.framework/Resources/bin/R CMD build --keep-empty-dirs --no-resave-data QuaternaryProd
StartedAt: 2022-01-20 07:56:42 -0500 (Thu, 20 Jan 2022)
EndedAt: 2022-01-20 08:05:51 -0500 (Thu, 20 Jan 2022)
EllapsedTime: 548.8 seconds
RetCode: 0
Status:   OK  
PackageFile: QuaternaryProd_1.28.0.tar.gz
PackageFileSize: 10.75 MiB

Command output

##############################################################################
##############################################################################
###
### Running command:
###
###   /Library/Frameworks/R.framework/Resources/bin/R CMD build --keep-empty-dirs --no-resave-data QuaternaryProd
###
##############################################################################
##############################################################################


* checking for file ‘QuaternaryProd/DESCRIPTION’ ... OK
* preparing ‘QuaternaryProd’:
* checking DESCRIPTION meta-information ... OK
* cleaning src
* installing the package to build vignettes
* creating vignettes ... OK
* cleaning src
* checking for LF line-endings in source and make files and shell scripts
* checking for empty or unneeded directories
Omitted ‘LazyData’ from DESCRIPTION
* building ‘QuaternaryProd_1.28.0.tar.gz’