Back to Multiple platform build/check report for BioC 3.14
ABCDEFGHIJKLMNOP[Q]RSTUVWXYZ

This page was generated on 2022-01-19 13:08:37 -0500 (Wed, 19 Jan 2022).

HostnameOSArch (*)R versionInstalled pkgs
nebbiolo2Linux (Ubuntu 20.04.4 LTS)x86_644.1.2 (2021-11-01) -- "Bird Hippie" 4328
tokay2Windows Server 2012 R2 Standardx644.1.2 (2021-11-01) -- "Bird Hippie" 4077
machv2macOS 10.14.6 Mojavex86_644.1.2 (2021-11-01) -- "Bird Hippie" 4138
Click on any hostname to see more info about the system (e.g. compilers)      (*) as reported by 'uname -p', except on Windows and Mac OS X

BUILD BIN results for QuaternaryProd on machv2


To the developers/maintainers of the QuaternaryProd package:
- Please allow up to 24 hours (and sometimes 48 hours) for your latest push to git@git.bioconductor.org:packages/QuaternaryProd.git to
reflect on this report. See How and When does the builder pull? When will my changes propagate? here for more information.
- Make sure to use the following settings in order to reproduce any error or warning you see on this page.

raw results

Package 1511/2083HostnameOS / ArchINSTALLBUILDCHECKBUILD BIN
QuaternaryProd 1.28.0  (landing page)
Carl Tony Fakhry
Snapshot Date: 2022-01-18 01:55:07 -0500 (Tue, 18 Jan 2022)
git_url: https://git.bioconductor.org/packages/QuaternaryProd
git_branch: RELEASE_3_14
git_last_commit: 2814921
git_last_commit_date: 2021-10-26 12:24:32 -0500 (Tue, 26 Oct 2021)
nebbiolo2Linux (Ubuntu 20.04.4 LTS) / x86_64  OK    OK    OK  UNNEEDED, same version is already published
tokay2Windows Server 2012 R2 Standard / x64  OK    OK    OK    OK  UNNEEDED, same version is already published
machv2macOS 10.14.6 Mojave / x86_64  OK    OK    OK    OK  UNNEEDED, same version is already published

Summary

Package: QuaternaryProd
Version: 1.28.0
Command: rm -rf QuaternaryProd.buildbin-libdir && mkdir QuaternaryProd.buildbin-libdir && /Users/biocbuild/BBS/utils/build-universal.sh QuaternaryProd_1.28.0.tar.gz /Library/Frameworks/R.framework/Resources/bin/R QuaternaryProd.buildbin-libdir
StartedAt: 2022-01-18 20:48:47 -0500 (Tue, 18 Jan 2022)
EndedAt: 2022-01-18 20:49:30 -0500 (Tue, 18 Jan 2022)
EllapsedTime: 43.1 seconds
RetCode: 0
Status:   OK  
PackageFile: QuaternaryProd_1.28.0.tgz
PackageFileSize: 10.92 MiB

Command output

##############################################################################
##############################################################################
###
### Running command:
###
###   rm -rf QuaternaryProd.buildbin-libdir && mkdir QuaternaryProd.buildbin-libdir && /Users/biocbuild/BBS/utils/build-universal.sh QuaternaryProd_1.28.0.tar.gz /Library/Frameworks/R.framework/Resources/bin/R QuaternaryProd.buildbin-libdir
###
##############################################################################
##############################################################################


>>>>>>> 
>>>>>>> INSTALLATION WITH 'R CMD INSTALL --preclean --no-multiarch --library=QuaternaryProd.buildbin-libdir QuaternaryProd_1.28.0.tar.gz'
>>>>>>> 

* installing *source* package ‘QuaternaryProd’ ...
** using staged installation
** libs
clang++ -mmacosx-version-min=10.13 -std=gnu++14 -I"/Library/Frameworks/R.framework/Resources/include" -DNDEBUG  -I'/Library/Frameworks/R.framework/Versions/4.1/Resources/library/Rcpp/include' -I/usr/local/include   -fPIC  -Wall -g -O2  -c QuaternaryProd.cpp -o QuaternaryProd.o
clang++ -mmacosx-version-min=10.13 -std=gnu++14 -I"/Library/Frameworks/R.framework/Resources/include" -DNDEBUG  -I'/Library/Frameworks/R.framework/Versions/4.1/Resources/library/Rcpp/include' -I/usr/local/include   -fPIC  -Wall -g -O2  -c QuaternaryProdUtils.cpp -o QuaternaryProdUtils.o
clang++ -mmacosx-version-min=10.13 -std=gnu++14 -I"/Library/Frameworks/R.framework/Resources/include" -DNDEBUG  -I'/Library/Frameworks/R.framework/Versions/4.1/Resources/library/Rcpp/include' -I/usr/local/include   -fPIC  -Wall -g -O2  -c RcppExports.cpp -o RcppExports.o
clang++ -mmacosx-version-min=10.13 -std=gnu++14 -dynamiclib -Wl,-headerpad_max_install_names -undefined dynamic_lookup -single_module -multiply_defined suppress -L/Library/Frameworks/R.framework/Resources/lib -L/usr/local/lib -o QuaternaryProd.so QuaternaryProd.o QuaternaryProdUtils.o RcppExports.o -F/Library/Frameworks/R.framework/.. -framework R -Wl,-framework -Wl,CoreFoundation
installing to /Users/biocbuild/bbs-3.14-bioc/meat/QuaternaryProd.buildbin-libdir/00LOCK-QuaternaryProd/00new/QuaternaryProd/libs
** R
** inst
** byte-compile and prepare package for lazy loading
** help
*** installing help indices
** building package indices
** installing vignettes
** testing if installed package can be loaded from temporary location
** checking absolute paths in shared objects and dynamic libraries
** testing if installed package can be loaded from final location
** testing if installed package keeps a record of temporary installation path
* DONE (QuaternaryProd)


>>>>>>> 
>>>>>>> FIXING LINKS FOR QuaternaryProd.buildbin-libdir/QuaternaryProd/libs/QuaternaryProd.so
>>>>>>> 

install_name_tool -change "/usr/local/lib/libgcc_s.1.dylib" "/Library/Frameworks/R.framework/Versions/4.1/Resources/lib/libgcc_s.1.dylib" "QuaternaryProd.buildbin-libdir/QuaternaryProd/libs/QuaternaryProd.so"
install_name_tool -change "/usr/local/lib/libgfortran.5.dylib" "/Library/Frameworks/R.framework/Versions/4.1/Resources/lib/libgfortran.5.dylib" "QuaternaryProd.buildbin-libdir/QuaternaryProd/libs/QuaternaryProd.so"
install_name_tool -change "/usr/local/lib/libquadmath.0.dylib" "/Library/Frameworks/R.framework/Versions/4.1/Resources/lib/libquadmath.0.dylib" "QuaternaryProd.buildbin-libdir/QuaternaryProd/libs/QuaternaryProd.so"