Back to Multiple platform build/check report for BioC 3.14
ABCDEFGHIJKLMNOP[Q]RSTUVWXYZ

This page was generated on 2021-12-01 17:17:09 -0500 (Wed, 01 Dec 2021).

All results for package QuaternaryProd

To the developers/maintainers of the QuaternaryProd package:
- Please allow up to 24 hours (and sometimes 48 hours) for your latest push to git@git.bioconductor.org:packages/QuaternaryProd.git to
reflect on this report. See How and When does the builder pull? When will my changes propagate? here for more information.
- Make sure to use the following settings in order to reproduce any error or warning you see on this page.

raw results

Package 1511/2083HostnameOS / ArchINSTALLBUILDCHECKBUILD BIN
QuaternaryProd 1.28.0  (landing page)
Carl Tony Fakhry
Snapshot Date: 2021-11-30 04:15:05 -0500 (Tue, 30 Nov 2021)
git_url: https://git.bioconductor.org/packages/QuaternaryProd
git_branch: RELEASE_3_14
git_last_commit: 2814921
git_last_commit_date: 2021-10-26 12:24:32 -0500 (Tue, 26 Oct 2021)
nebbiolo2Linux (Ubuntu 20.04.3 LTS) / x86_64  OK    OK    OK  UNNEEDED, same version is already published
tokay2Windows Server 2012 R2 Standard / x64  OK    OK    OK    OK  UNNEEDED, same version is already published
machv2macOS 10.14.6 Mojave / x86_64  OK    OK    OK    OK  UNNEEDED, same version is already published