Back to Multiple platform build/check report for BioC 3.14
ABCD[E]FGHIJKLMNOPQRSTUVWXYZ

This page was generated on 2022-01-19 13:06:31 -0500 (Wed, 19 Jan 2022).

HostnameOSArch (*)R versionInstalled pkgs
nebbiolo2Linux (Ubuntu 20.04.4 LTS)x86_644.1.2 (2021-11-01) -- "Bird Hippie" 4328
tokay2Windows Server 2012 R2 Standardx644.1.2 (2021-11-01) -- "Bird Hippie" 4077
machv2macOS 10.14.6 Mojavex86_644.1.2 (2021-11-01) -- "Bird Hippie" 4138
Click on any hostname to see more info about the system (e.g. compilers)      (*) as reported by 'uname -p', except on Windows and Mac OS X

BUILD BIN results for EBcoexpress on tokay2


To the developers/maintainers of the EBcoexpress package:
- Please allow up to 24 hours (and sometimes 48 hours) for your latest push to git@git.bioconductor.org:packages/EBcoexpress.git to
reflect on this report. See How and When does the builder pull? When will my changes propagate? here for more information.
- Make sure to use the following settings in order to reproduce any error or warning you see on this page.

raw results

Package 558/2083HostnameOS / ArchINSTALLBUILDCHECKBUILD BIN
EBcoexpress 1.38.0  (landing page)
John A. Dawson
Snapshot Date: 2022-01-18 01:55:07 -0500 (Tue, 18 Jan 2022)
git_url: https://git.bioconductor.org/packages/EBcoexpress
git_branch: RELEASE_3_14
git_last_commit: b5bb5f1
git_last_commit_date: 2021-10-26 12:02:56 -0500 (Tue, 26 Oct 2021)
nebbiolo2Linux (Ubuntu 20.04.4 LTS) / x86_64  OK    OK    WARNINGS  UNNEEDED, same version is already published
tokay2Windows Server 2012 R2 Standard / x64  OK    OK    WARNINGS    OK  UNNEEDED, same version is already published
machv2macOS 10.14.6 Mojave / x86_64  OK    OK    OK    OK  UNNEEDED, same version is already published

Summary

Package: EBcoexpress
Version: 1.38.0
Command: rm -rf EBcoexpress.buildbin-libdir && mkdir EBcoexpress.buildbin-libdir && C:\Users\biocbuild\bbs-3.14-bioc\R\bin\R.exe CMD INSTALL --merge-multiarch --build --library=EBcoexpress.buildbin-libdir EBcoexpress_1.38.0.tar.gz
StartedAt: 2022-01-19 05:45:23 -0500 (Wed, 19 Jan 2022)
EndedAt: 2022-01-19 05:45:43 -0500 (Wed, 19 Jan 2022)
EllapsedTime: 20.2 seconds
RetCode: 0
Status:   OK  
PackageFile: EBcoexpress_1.38.0.zip
PackageFileSize: 837.4 KiB

Command output

##############################################################################
##############################################################################
###
### Running command:
###
###   rm -rf EBcoexpress.buildbin-libdir && mkdir EBcoexpress.buildbin-libdir && C:\Users\biocbuild\bbs-3.14-bioc\R\bin\R.exe CMD INSTALL --merge-multiarch --build --library=EBcoexpress.buildbin-libdir EBcoexpress_1.38.0.tar.gz
###
##############################################################################
##############################################################################



install for i386

* installing *source* package 'EBcoexpress' ...
** using staged installation
** libs
"C:/rtools40/mingw32/bin/"gcc  -I"C:/Users/BIOCBU~1/BBS-3~1.14-/R/include" -DNDEBUG     -I"C:/extsoft/include"     -O2 -Wall  -std=gnu99 -mfpmath=sse -msse2 -mstackrealign  -c EBcoexpress.c -o EBcoexpress.o
EBcoexpress.c: In function 'bwmcCworker':
EBcoexpress.c:74:15: warning: suggest parentheses around comparison in operand of '|' [-Wparentheses]
       if(temp < -1 | temp > 1)
          ~~~~~^~~~
C:/rtools40/mingw32/bin/gcc -shared -s -static-libgcc -o EBcoexpress.dll tmp.def EBcoexpress.o -LC:/extsoft/lib/i386 -LC:/extsoft/lib -LC:/Users/BIOCBU~1/BBS-3~1.14-/R/bin/i386 -lR
installing to C:/Users/biocbuild/bbs-3.14-bioc/meat/EBcoexpress.buildbin-libdir/00LOCK-EBcoexpress/00new/EBcoexpress/libs/i386
** R
** data
** demo
** inst
** byte-compile and prepare package for lazy loading
** help
*** installing help indices
  converting help for package 'EBcoexpress'
    finding HTML links ... done
    ebCoexpressMeta                         html  
    ebCoexpressSeries                       html  
    fiftyGenes                              html  
    initializeHP                            html  
    makeMyD                                 html  
    priorDiagnostic                         html  
    rankMyGenes                             html  
    showNetwork                             html  
    showPair                                html  
    utilities                               html  
** building package indices
** installing vignettes
** testing if installed package can be loaded from temporary location
** testing if installed package can be loaded from final location
** testing if installed package keeps a record of temporary installation path

install for x64

* installing *source* package 'EBcoexpress' ...
** libs
"C:/rtools40/mingw64/bin/"gcc  -I"C:/Users/BIOCBU~1/BBS-3~1.14-/R/include" -DNDEBUG     -I"C:/extsoft/include"     -O2 -Wall  -std=gnu99 -mfpmath=sse -msse2 -mstackrealign  -c EBcoexpress.c -o EBcoexpress.o
EBcoexpress.c: In function 'bwmcCworker':
EBcoexpress.c:74:15: warning: suggest parentheses around comparison in operand of '|' [-Wparentheses]
       if(temp < -1 | temp > 1)
          ~~~~~^~~~
C:/rtools40/mingw64/bin/gcc -shared -s -static-libgcc -o EBcoexpress.dll tmp.def EBcoexpress.o -LC:/extsoft/lib/x64 -LC:/extsoft/lib -LC:/Users/BIOCBU~1/BBS-3~1.14-/R/bin/x64 -lR
installing to C:/Users/biocbuild/bbs-3.14-bioc/meat/EBcoexpress.buildbin-libdir/EBcoexpress/libs/x64
** testing if installed package can be loaded
* MD5 sums
packaged installation of 'EBcoexpress' as EBcoexpress_1.38.0.zip
* DONE (EBcoexpress)