Back to Multiple platform build/check report for BioC 3.14
AB[C]DEFGHIJKLMNOPQRSTUVWXYZ

This page was generated on 2021-10-21 12:04:14 -0400 (Thu, 21 Oct 2021).

BUILD results for CGHnormaliter on nebbiolo2

To the developers/maintainers of the CGHnormaliter package:
- Please allow up to 24 hours (and sometimes 48 hours) for your latest push to git@git.bioconductor.org:packages/CGHnormaliter.git to
reflect on this report. See How and When does the builder pull? When will my changes propagate? here for more information.
- Make sure to use the following settings in order to reproduce any error or warning you see on this page.

raw results

Package 286/2075HostnameOS / ArchINSTALLBUILDCHECKBUILD BIN
CGHnormaliter 1.47.0  (landing page)
Bart P.P. van Houte
Snapshot Date: 2021-10-20 14:50:05 -0400 (Wed, 20 Oct 2021)
git_url: https://git.bioconductor.org/packages/CGHnormaliter
git_branch: master
git_last_commit: 6c66f36
git_last_commit_date: 2021-05-19 11:44:00 -0400 (Wed, 19 May 2021)
nebbiolo2Linux (Ubuntu 20.04.2 LTS) / x86_64  OK    OK    OK  UNNEEDED, same version is already published
riesling1Windows Server 2019 Standard / x64  OK    OK    OK    OK  UNNEEDED, same version is already published
merida1macOS 10.14.6 Mojave / x86_64  OK    OK    OK    OK  UNNEEDED, same version is already published

Summary

Package: CGHnormaliter
Version: 1.47.0
Command: /home/biocbuild/bbs-3.14-bioc/R/bin/R CMD build --keep-empty-dirs --no-resave-data CGHnormaliter
StartedAt: 2021-10-20 16:59:06 -0400 (Wed, 20 Oct 2021)
EndedAt: 2021-10-20 17:00:03 -0400 (Wed, 20 Oct 2021)
EllapsedTime: 56.7 seconds
RetCode: 0
Status:   OK  
PackageFile: CGHnormaliter_1.47.0.tar.gz
PackageFileSize: 1.173 MiB

Command output

##############################################################################
##############################################################################
###
### Running command:
###
###   /home/biocbuild/bbs-3.14-bioc/R/bin/R CMD build --keep-empty-dirs --no-resave-data CGHnormaliter
###
##############################################################################
##############################################################################


* checking for file ‘CGHnormaliter/DESCRIPTION’ ... OK
* preparing ‘CGHnormaliter’:
* checking DESCRIPTION meta-information ... OK
* installing the package to build vignettes
* creating vignettes ... OK
* checking for LF line-endings in source and make files and shell scripts
* checking for empty or unneeded directories
* looking to see if a ‘data/datalist’ file should be added
* building ‘CGHnormaliter_1.47.0.tar.gz’