Back to Multiple platform build/check report for BioC 3.14
AB[C]DEFGHIJKLMNOPQRSTUVWXYZ

This page was generated on 2021-12-03 13:05:42 -0500 (Fri, 03 Dec 2021).

CHECK results for CGHnormaliter on machv2

To the developers/maintainers of the CGHnormaliter package:
- Please allow up to 24 hours (and sometimes 48 hours) for your latest push to git@git.bioconductor.org:packages/CGHnormaliter.git to
reflect on this report. See How and When does the builder pull? When will my changes propagate? here for more information.
- Make sure to use the following settings in order to reproduce any error or warning you see on this page.

raw results

Package 289/2083HostnameOS / ArchINSTALLBUILDCHECKBUILD BIN
CGHnormaliter 1.48.0  (landing page)
Bart P.P. van Houte
Snapshot Date: 2021-12-02 01:55:06 -0500 (Thu, 02 Dec 2021)
git_url: https://git.bioconductor.org/packages/CGHnormaliter
git_branch: RELEASE_3_14
git_last_commit: 1d2812a
git_last_commit_date: 2021-10-26 11:54:41 -0500 (Tue, 26 Oct 2021)
nebbiolo2Linux (Ubuntu 20.04.3 LTS) / x86_64  OK    OK    OK  UNNEEDED, same version is already published
tokay2Windows Server 2012 R2 Standard / x64  OK    OK    OK    OK  UNNEEDED, same version is already published
machv2macOS 10.14.6 Mojave / x86_64  OK    OK    OK    OK  UNNEEDED, same version is already published

Summary

Package: CGHnormaliter
Version: 1.48.0
Command: /Library/Frameworks/R.framework/Resources/bin/R CMD check --install=check:CGHnormaliter.install-out.txt --library=/Library/Frameworks/R.framework/Resources/library --no-vignettes --timings CGHnormaliter_1.48.0.tar.gz
StartedAt: 2021-12-02 12:40:07 -0500 (Thu, 02 Dec 2021)
EndedAt: 2021-12-02 12:42:03 -0500 (Thu, 02 Dec 2021)
EllapsedTime: 115.8 seconds
RetCode: 0
Status:   OK  
CheckDir: CGHnormaliter.Rcheck
Warnings: 0

Command output

##############################################################################
##############################################################################
###
### Running command:
###
###   /Library/Frameworks/R.framework/Resources/bin/R CMD check --install=check:CGHnormaliter.install-out.txt --library=/Library/Frameworks/R.framework/Resources/library --no-vignettes --timings CGHnormaliter_1.48.0.tar.gz
###
##############################################################################
##############################################################################


* using log directory ‘/Users/biocbuild/bbs-3.14-bioc/meat/CGHnormaliter.Rcheck’
* using R version 4.1.2 (2021-11-01)
* using platform: x86_64-apple-darwin17.0 (64-bit)
* using session charset: UTF-8
* using option ‘--no-vignettes’
* checking for file ‘CGHnormaliter/DESCRIPTION’ ... OK
* checking extension type ... Package
* this is package ‘CGHnormaliter’ version ‘1.48.0’
* checking package namespace information ... OK
* checking package dependencies ... OK
* checking if this is a source package ... OK
* checking if there is a namespace ... OK
* checking for hidden files and directories ... OK
* checking for portable file names ... OK
* checking for sufficient/correct file permissions ... OK
* checking whether package ‘CGHnormaliter’ can be installed ... OK
* checking installed package size ... OK
* checking package directory ... OK
* checking ‘build’ directory ... OK
* checking DESCRIPTION meta-information ... NOTE
Malformed Title field: should not end in a period.
Packages listed in more than one of Depends, Imports, Suggests, Enhances:
  ‘CGHbase’ ‘CGHcall’
A package should be listed in only one of these fields.
* checking top-level files ... OK
* checking for left-over files ... OK
* checking index information ... OK
* checking package subdirectories ... OK
* checking R files for non-ASCII characters ... OK
* checking R files for syntax errors ... OK
* checking whether the package can be loaded ... OK
* checking whether the package can be loaded with stated dependencies ... OK
* checking whether the package can be unloaded cleanly ... OK
* checking whether the namespace can be loaded with stated dependencies ... OK
* checking whether the namespace can be unloaded cleanly ... OK
* checking dependencies in R code ... OK
* checking S3 generic/method consistency ... OK
* checking replacement functions ... OK
* checking foreign function calls ... OK
* checking R code for possible problems ... NOTE
.plotMA: no visible global function definition for ‘pdf’
.plotMA: no visible global function definition for ‘palette’
.plotMA: no visible global function definition for ‘par’
.plotMA: no visible global function definition for ‘title’
.plotMA: no visible global function definition for ‘abline’
.plotMA: no visible global function definition for ‘dev.off’
.readCghRaw: no visible global function definition for ‘read.table’
.readCghRaw: no visible global function definition for ‘make_cghRaw’
.runCGHcall: no visible global function definition for ‘capture.output’
.runCGHcall: no visible global function definition for ‘ExpandCGHcall’
CGHnormaliter: no visible binding for global variable ‘segment’
CGHnormaliter: no visible global function definition for
  ‘capture.output’
CGHnormaliter: no visible global function definition for ‘normalize’
CGHnormaliter: no visible global function definition for
  ‘postsegnormalize’
CGHnormaliter.write.table: no visible global function definition for
  ‘segmented’
CGHnormaliter.write.table: no visible global function definition for
  ‘calls’
Undefined global functions or variables:
  ExpandCGHcall abline calls capture.output dev.off make_cghRaw
  normalize palette par pdf postsegnormalize read.table segment
  segmented title
Consider adding
  importFrom("grDevices", "dev.off", "palette", "pdf")
  importFrom("graphics", "abline", "par", "title")
  importFrom("utils", "capture.output", "read.table")
to your NAMESPACE file.
* checking Rd files ... OK
* checking Rd metadata ... OK
* checking Rd cross-references ... OK
* checking for missing documentation entries ... OK
* checking for code/documentation mismatches ... OK
* checking Rd \usage sections ... OK
* checking Rd contents ... OK
* checking for unstated dependencies in examples ... OK
* checking contents of ‘data’ directory ... OK
* checking data for non-ASCII characters ... OK
* checking data for ASCII and uncompressed saves ... OK
* checking sizes of PDF files under ‘inst/doc’ ... OK
* checking files in ‘vignettes’ ... OK
* checking examples ... OK
Examples with CPU (user + system) or elapsed time > 5s
                user system elapsed
CGHnormaliter 61.395  0.431  61.921
* checking for unstated dependencies in vignettes ... OK
* checking package vignettes in ‘inst/doc’ ... OK
* checking running R code from vignettes ... SKIPPED
* checking re-building of vignette outputs ... SKIPPED
* checking PDF version of manual ... OK
* DONE

Status: 2 NOTEs
See
  ‘/Users/biocbuild/bbs-3.14-bioc/meat/CGHnormaliter.Rcheck/00check.log’
for details.



Installation output

CGHnormaliter.Rcheck/00install.out

##############################################################################
##############################################################################
###
### Running command:
###
###   /Library/Frameworks/R.framework/Resources/bin/R CMD INSTALL CGHnormaliter
###
##############################################################################
##############################################################################


* installing to library ‘/Library/Frameworks/R.framework/Versions/4.1/Resources/library’
* installing *source* package ‘CGHnormaliter’ ...
** using staged installation
** R
** data
** byte-compile and prepare package for lazy loading
** help
*** installing help indices
** building package indices
** installing vignettes
** testing if installed package can be loaded from temporary location
** testing if installed package can be loaded from final location
** testing if installed package keeps a record of temporary installation path
* DONE (CGHnormaliter)

Tests output


Example timings

CGHnormaliter.Rcheck/CGHnormaliter-Ex.timings

nameusersystemelapsed
CGHnormaliter61.395 0.43161.921
CGHnormaliter.write.table0.2800.0070.287