Back to Multiple platform build/check report for BioC 3.14
AB[C]DEFGHIJKLMNOPQRSTUVWXYZ

This page was generated on 2021-11-26 15:05:44 -0500 (Fri, 26 Nov 2021).

INSTALL results for CGHnormaliter on machv2

To the developers/maintainers of the CGHnormaliter package:
- Please allow up to 24 hours (and sometimes 48 hours) for your latest push to git@git.bioconductor.org:packages/CGHnormaliter.git to
reflect on this report. See How and When does the builder pull? When will my changes propagate? here for more information.
- Make sure to use the following settings in order to reproduce any error or warning you see on this page.

raw results

Package 289/2083HostnameOS / ArchINSTALLBUILDCHECKBUILD BIN
CGHnormaliter 1.48.0  (landing page)
Bart P.P. van Houte
Snapshot Date: 2021-11-25 04:15:05 -0500 (Thu, 25 Nov 2021)
git_url: https://git.bioconductor.org/packages/CGHnormaliter
git_branch: RELEASE_3_14
git_last_commit: 1d2812a
git_last_commit_date: 2021-10-26 11:54:41 -0500 (Tue, 26 Oct 2021)
nebbiolo2Linux (Ubuntu 20.04.3 LTS) / x86_64  OK    OK    OK  UNNEEDED, same version is already published
tokay2Windows Server 2012 R2 Standard / x64  OK    OK    OK    OK  UNNEEDED, same version is already published
machv2macOS 10.14.6 Mojave / x86_64  OK    OK    OK    OK  UNNEEDED, same version is already published

Summary

Package: CGHnormaliter
Version: 1.48.0
Command: /Library/Frameworks/R.framework/Resources/bin/R CMD INSTALL CGHnormaliter
StartedAt: 2021-11-25 05:54:44 -0500 (Thu, 25 Nov 2021)
EndedAt: 2021-11-25 05:55:48 -0500 (Thu, 25 Nov 2021)
EllapsedTime: 63.6 seconds
RetCode: 0
Status:   OK  

Command output

##############################################################################
##############################################################################
###
### Running command:
###
###   /Library/Frameworks/R.framework/Resources/bin/R CMD INSTALL CGHnormaliter
###
##############################################################################
##############################################################################


* installing to library ‘/Library/Frameworks/R.framework/Versions/4.1/Resources/library’
* installing *source* package ‘CGHnormaliter’ ...
** using staged installation
** R
** data
** byte-compile and prepare package for lazy loading
** help
*** installing help indices
** building package indices
** installing vignettes
** testing if installed package can be loaded from temporary location
** testing if installed package can be loaded from final location
** testing if installed package keeps a record of temporary installation path
* DONE (CGHnormaliter)