Index of /checkResults/release/workflows-LATEST/rnaseqDTU/raw-results/merida1
Name
Last modified
Size
Description
Parent Directory
-
buildsrc-out.txt
17-Apr-2024 03:00
824
buildsrc-summary.dcf
17-Apr-2024 03:00
434
install-out.txt
17-Apr-2024 03:00
1.0K
install-summary.dcf
17-Apr-2024 03:00
274