Index of /checkResults/release/workflows-LATEST/fluentGenomics/raw-results

[ICO]NameLast modifiedSizeDescription

[DIR]Parent Directory  -  
[   ]info.dcf25-Jan-2022 11:00 279  
[DIR]machv2/25-Jan-2022 11:00 -  
[DIR]nebbiolo2/25-Jan-2022 11:00 -  
[DIR]riesling1/25-Jan-2022 11:00 -