Index of /checkResults/release/workflows-LATEST/fluentGenomics/raw-results/nebbiolo1

[ICO]NameLast modifiedSizeDescription

[DIR]Parent Directory  -  
[TXT]buildsrc-out.txt25-Jun-2022 03:00 833  
[   ]buildsrc-summary.dcf25-Jun-2022 03:00 437  
[TXT]install-out.txt25-Jun-2022 03:00 1.0K 
[   ]install-summary.dcf25-Jun-2022 03:00 272