Back to Workflows build report for BioC 3.16

This page was generated on 2023-01-31 14:00:10 -0500 (Tue, 31 Jan 2023).

HostnameOSArch (*)R versionInstalled pkgs
nebbiolo2Linux (Ubuntu 20.04.5 LTS)x86_644.2.2 (2022-10-31) -- "Innocent and Trusting" 4510
palomino4Windows Server 2022 Datacenterx644.2.2 (2022-10-31 ucrt) -- "Innocent and Trusting" 4289
lconwaymacOS 12.5.1 Montereyx86_644.2.2 (2022-10-31) -- "Innocent and Trusting" 4318
Click on any hostname to see more info about the system (e.g. compilers)      (*) as reported by 'uname -p', except on Windows and Mac OS X

BUILD results for csawUsersGuide on lconway


To the developers/maintainers of the csawUsersGuide package:
Make sure to use the following settings in order to reproduce any error or warning you see on this page.

raw results

Package 7/28HostnameOS / ArchINSTALLBUILD
csawUsersGuide 1.14.0  (landing page)
Aaron Lun
Snapshot Date: 2023-01-31 10:45:01 -0500 (Tue, 31 Jan 2023)
git_url: https://git.bioconductor.org/packages/csawUsersGuide
git_branch: RELEASE_3_16
git_last_commit: c066e24
git_last_commit_date: 2022-11-01 10:34:42 -0500 (Tue, 01 Nov 2022)
nebbiolo2Linux (Ubuntu 20.04.5 LTS) / x86_64  OK    OK  NO, version to propagate (1.14.0) is lower than published version (1.15.0)
palomino4Windows Server 2022 Datacenter / x64  OK    OK  
lconwaymacOS 12.5.1 Monterey / x86_64  OK    OK  

Summary

Package: csawUsersGuide
Version: 1.14.0
Command: /Library/Frameworks/R.framework/Resources/bin/R CMD build --keep-empty-dirs --no-resave-data csawUsersGuide
StartedAt: 2023-01-31 11:02:48 -0500 (Tue, 31 Jan 2023)
EndedAt: 2023-01-31 11:02:57 -0500 (Tue, 31 Jan 2023)
EllapsedTime: 9.4 seconds
RetCode: 0
Status:   OK  
PackageFile: csawUsersGuide_1.14.0.tar.gz
PackageFileSize: 35.73 KiB

Command output

##############################################################################
##############################################################################
###
### Running command:
###
###   /Library/Frameworks/R.framework/Resources/bin/R CMD build --keep-empty-dirs --no-resave-data csawUsersGuide
###
##############################################################################
##############################################################################


* checking for file ‘csawUsersGuide/DESCRIPTION’ ... OK
* preparing ‘csawUsersGuide’:
* checking DESCRIPTION meta-information ... OK
* installing the package to build vignettes
* creating vignettes ... OK
* checking for LF line-endings in source and make files and shell scripts
* checking for empty or unneeded directories
* creating default NAMESPACE file
* building ‘csawUsersGuide_1.14.0.tar.gz’