Index of /checkResults/release/workflows-LATEST/RnaSeqGeneEdgeRQL/raw-results
Name
Last modified
Size
Description
Parent Directory
-
palomino3/
04-May-2024 03:00
-
nebbiolo1/
04-May-2024 03:00
-
merida1/
02-Mar-2024 04:00
-
lconway/
04-May-2024 03:00
-
info.dcf
04-May-2024 03:00
289