Index of /checkResults/release/workflows-LATEST/RnaSeqGeneEdgeRQL/raw-results/lconway
Name
Last modified
Size
Description
Parent Directory
-
buildsrc-out.txt
04-May-2024 03:00
890
buildsrc-summary.dcf
04-May-2024 03:00
457
install-out.txt
04-May-2024 03:00
1.0K
install-summary.dcf
04-May-2024 03:00
288