Back to Workflows build report for BioC 3.18

This page was generated on 2024-02-20 14:00:13 -0500 (Tue, 20 Feb 2024).

HostnameOSArch (*)R versionInstalled pkgs
nebbiolo2Linux (Ubuntu 22.04.3 LTS)x86_644.3.2 Patched (2023-11-13 r85521) -- "Eye Holes" 4691
palomino4Windows Server 2022 Datacenterx644.3.2 (2023-10-31 ucrt) -- "Eye Holes" 4444
lconwaymacOS 12.7.1 Montereyx86_644.3.2 Patched (2023-11-01 r85457) -- "Eye Holes" 4465
Click on any hostname to see more info about the system (e.g. compilers)      (*) as reported by 'uname -p', except on Windows and Mac OS X

Package 3/30HostnameOS / ArchINSTALLBUILD
BiocMetaWorkflow 1.24.0  (landing page)
Mike Smith
Snapshot Date: 2024-02-20 10:45:01 -0500 (Tue, 20 Feb 2024)
git_url: https://git.bioconductor.org/packages/BiocMetaWorkflow
git_branch: RELEASE_3_18
git_last_commit: e955a08
git_last_commit_date: 2023-10-24 08:47:20 -0500 (Tue, 24 Oct 2023)
nebbiolo2Linux (Ubuntu 22.04.3 LTS) / x86_64  OK    OK  UNNEEDED, same version is already published
palomino4Windows Server 2022 Datacenter / x64  OK    OK  
lconwaymacOS 12.7.1 Monterey / x86_64  OK    ERROR  

INSTALL results for BiocMetaWorkflow on lconway


To the developers/maintainers of the BiocMetaWorkflow package:
- Use the following Renviron settings to reproduce errors and warnings.
- If 'R CMD check' started to fail recently on the Linux builder(s) over a missing dependency, add the missing dependency to 'Suggests:' in your DESCRIPTION file. See Renviron.bioc for more information.

raw results


Summary

Package: BiocMetaWorkflow
Version: 1.24.0
Command: /Library/Frameworks/R.framework/Resources/bin/R CMD INSTALL BiocMetaWorkflow
StartedAt: 2024-02-20 11:00:16 -0500 (Tue, 20 Feb 2024)
EndedAt: 2024-02-20 11:00:21 -0500 (Tue, 20 Feb 2024)
EllapsedTime: 5.0 seconds
RetCode: 0
Status:   OK  

Command output

##############################################################################
##############################################################################
###
### Running command:
###
###   /Library/Frameworks/R.framework/Resources/bin/R CMD INSTALL BiocMetaWorkflow
###
##############################################################################
##############################################################################


* installing to library ‘/Library/Frameworks/R.framework/Versions/4.3-x86_64/Resources/library’
* installing *source* package ‘BiocMetaWorkflow’ ...
** using staged installation
** help
No man pages found in package  ‘BiocMetaWorkflow’ 
*** installing help indices
** building package indices
** installing vignettes
** testing if installed package can be loaded from temporary location
** testing if installed package can be loaded from final location
** testing if installed package keeps a record of temporary installation path
* DONE (BiocMetaWorkflow)