Back to Multiple platform build/check report for BioC 3.12 experimental data
ABCDEFGHIJKL[M]NOPQRSTUVWXYZ

BUILD report for minionSummaryData on nebbiolo1

This page was generated on 2021-01-14 14:10:34 -0500 (Thu, 14 Jan 2021).

TO THE DEVELOPERS/MAINTAINERS OF THE minionSummaryData PACKAGE: Please make sure to use the following settings in order to reproduce any error or warning you see on this page.
Package 231/398HostnameOS / ArchINSTALLBUILDCHECK
minionSummaryData 1.20.0
Mike Smith
Snapshot Date: 2021-01-14 09:00:17 -0500 (Thu, 14 Jan 2021)
URL: https://git.bioconductor.org/packages/minionSummaryData
Branch: RELEASE_3_12
Last Commit: 6053d53
Last Changed Date: 2020-10-27 10:13:32 -0500 (Tue, 27 Oct 2020)
malbec1 Linux (Ubuntu 18.04.5 LTS) / x86_64  OK  OK  OK UNNEEDED, same version exists in internal repository
nebbiolo1 Linux (Ubuntu 20.04.1 LTS) / x86_64  OK [ OK ] OK 

Summary

Package: minionSummaryData
Version: 1.20.0
Command: /home/biocbuild/bbs-3.12-bioc/R/bin/R CMD build --keep-empty-dirs --no-resave-data minionSummaryData
StartedAt: 2021-01-14 10:31:21 -0500 (Thu, 14 Jan 2021)
EndedAt: 2021-01-14 10:31:32 -0500 (Thu, 14 Jan 2021)
EllapsedTime: 11.4 seconds
RetCode: 0
Status:  OK 
PackageFile: minionSummaryData_1.20.0.tar.gz
PackageFileSize: 134.7 MiB

Command output

##############################################################################
##############################################################################
###
### Running command:
###
###   /home/biocbuild/bbs-3.12-bioc/R/bin/R CMD build --keep-empty-dirs --no-resave-data minionSummaryData
###
##############################################################################
##############################################################################


* checking for file ‘minionSummaryData/DESCRIPTION’ ... OK
* preparing ‘minionSummaryData’:
* checking DESCRIPTION meta-information ... OK
* installing the package to build vignettes
* creating vignettes ... OK
* checking for LF line-endings in source and make files and shell scripts
* checking for empty or unneeded directories
* looking to see if a ‘data/datalist’ file should be added
* building ‘minionSummaryData_1.20.0.tar.gz’