Back to Multiple platform build/check report for BioC 3.12 experimental data
ABCDEFGHIJKL[M]NOPQRSTUVWXYZ

Multiple platform build/check report for BioC 3.12 experimental data

Results for minionSummaryData

This page was generated on 2020-11-26 14:09:58 -0500 (Thu, 26 Nov 2020).

Package 231/398HostnameOS / ArchINSTALLBUILDCHECK
minionSummaryData 1.20.0
Mike Smith
Snapshot Date: 2020-11-26 09:00:18 -0500 (Thu, 26 Nov 2020)
URL: https://git.bioconductor.org/packages/minionSummaryData
Branch: RELEASE_3_12
Last Commit: 6053d53
Last Changed Date: 2020-10-27 10:13:32 -0500 (Tue, 27 Oct 2020)
malbec1 Linux (Ubuntu 18.04.4 LTS) / x86_64  OK  OK  OK UNNEEDED, same version exists in internal repository
nebbiolo1 Linux (Ubuntu 20.04.1 LTS) / x86_64  OK  OK  OK