Index of /checkResults/release/data-experiment-LATEST/hapmap500ksty/raw-results/nebbiolo2

[ICO]NameLast modifiedSizeDescription

[DIR]Parent Directory  -  
[TXT]buildsrc-out.txt23-Feb-2024 04:52 758  
[   ]buildsrc-summary.dcf23-Feb-2024 04:52 436  
[TXT]checksrc-out.txt23-Feb-2024 04:52 3.1K 
[   ]checksrc-summary.dcf23-Feb-2024 04:52 437  
[TXT]install-out.txt23-Feb-2024 04:52 946  
[   ]install-summary.dcf23-Feb-2024 04:52 270