Index of /checkResults/release/data-experiment-LATEST/hapmap500ksty/raw-results/nebbiolo2

[ICO]NameLast modifiedSizeDescription

[DIR]Parent Directory  -  
[   ]install-summary.dcf29-Mar-2024 03:52 270  
[   ]buildsrc-summary.dcf29-Mar-2024 03:52 436  
[   ]checksrc-summary.dcf29-Mar-2024 03:52 437  
[TXT]buildsrc-out.txt29-Mar-2024 03:52 758  
[TXT]install-out.txt29-Mar-2024 03:52 946  
[TXT]checksrc-out.txt29-Mar-2024 03:52 3.1K