Index of /checkResults/release/data-experiment-LATEST/hapmap500ksty/raw-results
Name
Last modified
Size
Description
Parent Directory
-
info.dcf
08-Dec-2023 04:52
299
nebbiolo2/
08-Dec-2023 04:52
-