Back to Multiple platform build/check report for BioC 3.12 experimental data
ABCDEF[G]HIJKLMNOPQRSTUVWXYZ

BUILD report for geneLenDataBase on nebbiolo1

This page was generated on 2021-01-14 14:10:32 -0500 (Thu, 14 Jan 2021).

TO THE DEVELOPERS/MAINTAINERS OF THE geneLenDataBase PACKAGE: Please make sure to use the following settings in order to reproduce any error or warning you see on this page.
Package 141/398HostnameOS / ArchINSTALLBUILDCHECK
geneLenDataBase 1.26.0
Matthew Young , Nadia Davidson
Snapshot Date: 2021-01-14 09:00:17 -0500 (Thu, 14 Jan 2021)
URL: https://git.bioconductor.org/packages/geneLenDataBase
Branch: RELEASE_3_12
Last Commit: 2724715
Last Changed Date: 2020-10-27 09:51:48 -0500 (Tue, 27 Oct 2020)
malbec1 Linux (Ubuntu 18.04.5 LTS) / x86_64  OK  OK  WARNINGS UNNEEDED, same version exists in internal repository
nebbiolo1 Linux (Ubuntu 20.04.1 LTS) / x86_64  OK [ OK ] WARNINGS 

Summary

Package: geneLenDataBase
Version: 1.26.0
Command: /home/biocbuild/bbs-3.12-bioc/R/bin/R CMD build --keep-empty-dirs --no-resave-data geneLenDataBase
StartedAt: 2021-01-14 10:23:55 -0500 (Thu, 14 Jan 2021)
EndedAt: 2021-01-14 10:24:41 -0500 (Thu, 14 Jan 2021)
EllapsedTime: 46.1 seconds
RetCode: 0
Status:  OK 
PackageFile: geneLenDataBase_1.26.0.tar.gz
PackageFileSize: 95.78 MiB

Command output

##############################################################################
##############################################################################
###
### Running command:
###
###   /home/biocbuild/bbs-3.12-bioc/R/bin/R CMD build --keep-empty-dirs --no-resave-data geneLenDataBase
###
##############################################################################
##############################################################################


* checking for file ‘geneLenDataBase/DESCRIPTION’ ... OK
* preparing ‘geneLenDataBase’:
* checking DESCRIPTION meta-information ... OK
* checking for LF line-endings in source and make files and shell scripts
* checking for empty or unneeded directories
* looking to see if a ‘data/datalist’ file should be added
* building ‘geneLenDataBase_1.26.0.tar.gz’