Back to Multiple platform build/check report for BioC 3.12 experimental data
A[B]CDEFGHIJKLMNOPQRSTUVWXYZ

BUILD report for bladderbatch on nebbiolo1

This page was generated on 2021-01-14 14:10:30 -0500 (Thu, 14 Jan 2021).

TO THE DEVELOPERS/MAINTAINERS OF THE bladderbatch PACKAGE: Please make sure to use the following settings in order to reproduce any error or warning you see on this page.
Package 29/398HostnameOS / ArchINSTALLBUILDCHECK
bladderbatch 1.28.0
Jeffrey T. Leek
Snapshot Date: 2021-01-14 09:00:17 -0500 (Thu, 14 Jan 2021)
URL: https://git.bioconductor.org/packages/bladderbatch
Branch: RELEASE_3_12
Last Commit: 5d604cb
Last Changed Date: 2020-10-27 09:53:50 -0500 (Tue, 27 Oct 2020)
malbec1 Linux (Ubuntu 18.04.5 LTS) / x86_64  OK  OK  WARNINGS UNNEEDED, same version exists in internal repository
nebbiolo1 Linux (Ubuntu 20.04.1 LTS) / x86_64  OK [ OK ] WARNINGS 

Summary

Package: bladderbatch
Version: 1.28.0
Command: /home/biocbuild/bbs-3.12-bioc/R/bin/R CMD build --keep-empty-dirs --no-resave-data bladderbatch
StartedAt: 2021-01-14 10:13:28 -0500 (Thu, 14 Jan 2021)
EndedAt: 2021-01-14 10:13:41 -0500 (Thu, 14 Jan 2021)
EllapsedTime: 12.9 seconds
RetCode: 0
Status:  OK 
PackageFile: bladderbatch_1.28.0.tar.gz
PackageFileSize: 9.208 MiB

Command output

##############################################################################
##############################################################################
###
### Running command:
###
###   /home/biocbuild/bbs-3.12-bioc/R/bin/R CMD build --keep-empty-dirs --no-resave-data bladderbatch
###
##############################################################################
##############################################################################


* checking for file ‘bladderbatch/DESCRIPTION’ ... OK
* preparing ‘bladderbatch’:
* checking DESCRIPTION meta-information ... OK
* checking whether ‘INDEX’ is up-to-date ... NO
* use ‘--force’ to remove the existing ‘INDEX’
* installing the package to build vignettes
* creating vignettes ... OK
* checking for LF line-endings in source and make files and shell scripts
* checking for empty or unneeded directories
* looking to see if a ‘data/datalist’ file should be added
* building ‘bladderbatch_1.28.0.tar.gz’