Back to Multiple platform build/check report for BioC 3.12 experimental data
A[B]CDEFGHIJKLMNOPQRSTUVWXYZ

Multiple platform build/check report for BioC 3.12 experimental data

Results for package bladderbatch

This page was generated on 2021-03-01 14:09:53 -0500 (Mon, 01 Mar 2021).

Package 29/398HostnameOS / ArchINSTALLBUILDCHECK
bladderbatch 1.28.0
Jeffrey T. Leek
Snapshot Date: 2021-03-01 09:00:10 -0500 (Mon, 01 Mar 2021)
URL: https://git.bioconductor.org/packages/bladderbatch
Branch: RELEASE_3_12
Last Commit: 5d604cb
Last Changed Date: 2020-10-27 09:53:50 -0500 (Tue, 27 Oct 2020)
malbec1Linux (Ubuntu 18.04.5 LTS) / x86_64  OK    OK    WARNINGS  UNNEEDED, same version exists in internal repository
nebbiolo1Linux (Ubuntu 20.04.2 LTS) / x86_64  OK    OK    NA