Index of /checkResults/release/data-experiment-LATEST/SCLCBam/raw-results

[ICO]NameLast modifiedSizeDescription

[DIR]Parent Directory  -  
[   ]info.dcf16-Feb-2024 04:52 272  
[DIR]nebbiolo2/16-Feb-2024 04:52 -