Back to Build/check report for BioC 3.15 experimental data
ABCDEFGHIJKLMNOPQR[S]TUVWXYZ

This page was generated on 2022-08-11 14:50:09 -0400 (Thu, 11 Aug 2022).

HostnameOSArch (*)R versionInstalled pkgs
nebbiolo1Linux (Ubuntu 20.04.4 LTS)x86_644.2.1 (2022-06-23) -- "Funny-Looking Kid" 4363
Click on any hostname to see more info about the system (e.g. compilers)      (*) as reported by 'uname -p', except on Windows and Mac OS X

All results for package SCLCBam


To the developers/maintainers of the SCLCBam package:
Make sure to use the following settings in order to reproduce any error or warning you see on this page.

raw results

Package 339/410HostnameOS / ArchINSTALLBUILDCHECK
SCLCBam 1.28.0  (landing page)
Oscar Krijgsman
Snapshot Date: 2022-08-11 07:30:02 -0400 (Thu, 11 Aug 2022)
git_url: https://git.bioconductor.org/packages/SCLCBam
git_branch: RELEASE_3_15
git_last_commit: 11c8745
git_last_commit_date: 2022-04-26 13:17:29 -0400 (Tue, 26 Apr 2022)
nebbiolo1Linux (Ubuntu 20.04.4 LTS) / x86_64  OK    OK    OK  UNNEEDED, same version is already published