![]() | Name | Last modified | Size | Description |
---|---|---|---|---|
![]() | Parent Directory | - | ||
![]() | buildsrc-out.txt | 29-Sep-2023 03:51 | 806 | |
![]() | buildsrc-summary.dcf | 29-Sep-2023 03:51 | 416 | |
![]() | checksrc-out.txt | 29-Sep-2023 03:51 | 3.3K | |
![]() | checksrc-summary.dcf | 29-Sep-2023 03:51 | 413 | |
![]() | install-out.txt | 29-Sep-2023 03:51 | 952 | |
![]() | install-summary.dcf | 29-Sep-2023 03:51 | 258 | |