Back to Multiple platform build/check report for BioC 3.12 experimental data |
|
This page was generated on 2021-01-14 14:10:34 -0500 (Thu, 14 Jan 2021).
TO THE DEVELOPERS/MAINTAINERS OF THE MetaGxPancreas PACKAGE: Please make sure to use the following settings in order to reproduce any error or warning you see on this page. |
Package 222/398 | Hostname | OS / Arch | INSTALL | BUILD | CHECK | ||||||
MetaGxPancreas 1.10.0 Michael Zon
| malbec1 | Linux (Ubuntu 18.04.5 LTS) / x86_64 | OK | OK | OK | ![]() | |||||
nebbiolo1 | Linux (Ubuntu 20.04.1 LTS) / x86_64 | OK | [ OK ] | OK |
Package: MetaGxPancreas |
Version: 1.10.0 |
Command: /home/biocbuild/bbs-3.12-bioc/R/bin/R CMD build --keep-empty-dirs --no-resave-data MetaGxPancreas |
StartedAt: 2021-01-14 10:30:29 -0500 (Thu, 14 Jan 2021) |
EndedAt: 2021-01-14 10:31:38 -0500 (Thu, 14 Jan 2021) |
EllapsedTime: 68.6 seconds |
RetCode: 0 |
Status: OK |
PackageFile: MetaGxPancreas_1.10.0.tar.gz |
PackageFileSize: 16.73 KiB |
############################################################################## ############################################################################## ### ### Running command: ### ### /home/biocbuild/bbs-3.12-bioc/R/bin/R CMD build --keep-empty-dirs --no-resave-data MetaGxPancreas ### ############################################################################## ############################################################################## * checking for file ‘MetaGxPancreas/DESCRIPTION’ ... OK * preparing ‘MetaGxPancreas’: * checking DESCRIPTION meta-information ... OK * installing the package to build vignettes * creating vignettes ... OK * checking for LF line-endings in source and make files and shell scripts * checking for empty or unneeded directories * building ‘MetaGxPancreas_1.10.0.tar.gz’