Back to Multiple platform build/check report for BioC 3.12 experimental data
ABCDEFGHIJKL[M]NOPQRSTUVWXYZ

Multiple platform build/check report for BioC 3.12 experimental data

Results for MetaGxPancreas

This page was generated on 2020-11-23 14:10:05 -0500 (Mon, 23 Nov 2020).

Package 222/398HostnameOS / ArchINSTALLBUILDCHECK
MetaGxPancreas 1.10.0
Michael Zon
Snapshot Date: 2020-11-23 09:00:13 -0500 (Mon, 23 Nov 2020)
URL: https://git.bioconductor.org/packages/MetaGxPancreas
Branch: RELEASE_3_12
Last Commit: 6525a6c
Last Changed Date: 2020-10-27 10:26:36 -0500 (Tue, 27 Oct 2020)
malbec1 Linux (Ubuntu 18.04.4 LTS) / x86_64  OK  OK  OK UNNEEDED, same version exists in internal repository
nebbiolo1 Linux (Ubuntu 20.04.1 LTS) / x86_64  OK  OK  OK