Back to Build/check report for BioC 3.16 experimental data
ABCDEFGHIJKL[M]NOPQRSTUVWXYZ

This page was generated on 2022-12-08 14:50:30 -0500 (Thu, 08 Dec 2022).

HostnameOSArch (*)R versionInstalled pkgs
nebbiolo2Linux (Ubuntu 20.04.5 LTS)x86_644.2.2 (2022-10-31) -- "Innocent and Trusting" 4505
Click on any hostname to see more info about the system (e.g. compilers)      (*) as reported by 'uname -p', except on Windows and Mac OS X

All results for package MACSdata


To the developers/maintainers of the MACSdata package:
Make sure to use the following settings in order to reproduce any error or warning you see on this page.

raw results

Package 212/416HostnameOS / ArchINSTALLBUILDCHECK
MACSdata 1.6.0  (landing page)
Qiang Hu
Snapshot Date: 2022-12-08 07:30:02 -0500 (Thu, 08 Dec 2022)
git_url: https://git.bioconductor.org/packages/MACSdata
git_branch: RELEASE_3_16
git_last_commit: a56f4e7
git_last_commit_date: 2022-11-01 11:25:00 -0500 (Tue, 01 Nov 2022)
nebbiolo2Linux (Ubuntu 20.04.5 LTS) / x86_64  OK    OK    OK  UNNEEDED, same version is already published