Back to Build/check report for BioC 3.16 experimental data
ABCDEFGHIJKL[M]NOPQRSTUVWXYZ

This page was generated on 2023-01-26 14:50:36 -0500 (Thu, 26 Jan 2023).

HostnameOSArch (*)R versionInstalled pkgs
nebbiolo2Linux (Ubuntu 20.04.5 LTS)x86_644.2.2 (2022-10-31) -- "Innocent and Trusting" 4508
Click on any hostname to see more info about the system (e.g. compilers)      (*) as reported by 'uname -p', except on Windows and Mac OS X

BUILD results for MACSdata on nebbiolo2


To the developers/maintainers of the MACSdata package:
Make sure to use the following settings in order to reproduce any error or warning you see on this page.

raw results

Package 212/416HostnameOS / ArchINSTALLBUILDCHECK
MACSdata 1.6.0  (landing page)
Qiang Hu
Snapshot Date: 2023-01-26 07:30:02 -0500 (Thu, 26 Jan 2023)
git_url: https://git.bioconductor.org/packages/MACSdata
git_branch: RELEASE_3_16
git_last_commit: a56f4e7
git_last_commit_date: 2022-11-01 11:25:00 -0500 (Tue, 01 Nov 2022)
nebbiolo2Linux (Ubuntu 20.04.5 LTS) / x86_64  OK    OK    OK  UNNEEDED, same version is already published

Summary

Package: MACSdata
Version: 1.6.0
Command: /home/biocbuild/bbs-3.16-bioc/R/bin/R CMD build --keep-empty-dirs --no-resave-data MACSdata
StartedAt: 2023-01-26 10:30:09 -0500 (Thu, 26 Jan 2023)
EndedAt: 2023-01-26 10:30:10 -0500 (Thu, 26 Jan 2023)
EllapsedTime: 1.0 seconds
RetCode: 0
Status:   OK  
PackageFile: MACSdata_1.6.0.tar.gz
PackageFileSize: 2.711 KiB

Command output

##############################################################################
##############################################################################
###
### Running command:
###
###   /home/biocbuild/bbs-3.16-bioc/R/bin/R CMD build --keep-empty-dirs --no-resave-data MACSdata
###
##############################################################################
##############################################################################


* checking for file ‘MACSdata/DESCRIPTION’ ... OK
* preparing ‘MACSdata’:
* checking DESCRIPTION meta-information ... OK
* checking for LF line-endings in source and make files and shell scripts
* checking for empty or unneeded directories
Omitted ‘LazyData’ from DESCRIPTION
* building ‘MACSdata_1.6.0.tar.gz’