Index of /checkResults/release/data-experiment-LATEST/MACSdata/raw-results

[ICO]NameLast modifiedSizeDescription

[DIR]Parent Directory  -  
[   ]info.dcf27-Jan-2023 04:50 272  
[DIR]nebbiolo2/27-Jan-2023 04:50 -