Back to Multiple platform build/check report for BioC 3.19:   simplified   long
ABCDEFGHIJKLMNOPQRSTUV[W]XYZ

This page was generated on 2024-07-16 17:43 -0400 (Tue, 16 Jul 2024).

HostnameOSArch (*)R versionInstalled pkgs
nebbiolo1Linux (Ubuntu 22.04.3 LTS)x86_644.4.1 (2024-06-14) -- "Race for Your Life" 4742
palomino7Windows Server 2022 Datacenterx644.4.1 (2024-06-14 ucrt) -- "Race for Your Life" 4484
merida1macOS 12.7.4 Montereyx86_644.4.1 (2024-06-14) -- "Race for Your Life" 4513
kjohnson1macOS 13.6.6 Venturaarm644.4.1 (2024-06-14) -- "Race for Your Life" 4462
Click on any hostname to see more info about the system (e.g. compilers)      (*) as reported by 'uname -p', except on Windows and Mac OS X

Package 2279/2300HostnameOS / ArchINSTALLBUILDCHECKBUILD BIN
widgetTools 1.82.0  (landing page)
Jianhua Zhang
Snapshot Date: 2024-07-14 14:00 -0400 (Sun, 14 Jul 2024)
git_url: https://git.bioconductor.org/packages/widgetTools
git_branch: RELEASE_3_19
git_last_commit: 35d8aa9
git_last_commit_date: 2024-04-30 10:11:21 -0400 (Tue, 30 Apr 2024)
nebbiolo1Linux (Ubuntu 22.04.3 LTS) / x86_64  OK    OK    OK  UNNEEDED, same version is already published
palomino7Windows Server 2022 Datacenter / x64  OK    OK    OK    OK  
merida1macOS 12.7.4 Monterey / x86_64  OK    OK    OK    OK  UNNEEDED, same version is already published
kjohnson1macOS 13.6.6 Ventura / arm64  OK    OK    OK    OK  UNNEEDED, same version is already published


CHECK results for widgetTools on kjohnson1

To the developers/maintainers of the widgetTools package:
- Allow up to 24 hours (and sometimes 48 hours) for your latest push to git@git.bioconductor.org:packages/widgetTools.git to reflect on this report. See Troubleshooting Build Report for more information.
- Use the following Renviron settings to reproduce errors and warnings.
- If 'R CMD check' started to fail recently on the Linux builder(s) over a missing dependency, add the missing dependency to 'Suggests:' in your DESCRIPTION file. See Renviron.bioc for more information.

raw results


Summary

Package: widgetTools
Version: 1.82.0
Command: /Library/Frameworks/R.framework/Resources/bin/R CMD check --install=check:widgetTools.install-out.txt --library=/Library/Frameworks/R.framework/Resources/library --no-vignettes --timings widgetTools_1.82.0.tar.gz
StartedAt: 2024-07-16 12:54:07 -0400 (Tue, 16 Jul 2024)
EndedAt: 2024-07-16 12:54:38 -0400 (Tue, 16 Jul 2024)
EllapsedTime: 30.6 seconds
RetCode: 0
Status:   OK  
CheckDir: widgetTools.Rcheck
Warnings: 0

Command output

##############################################################################
##############################################################################
###
### Running command:
###
###   /Library/Frameworks/R.framework/Resources/bin/R CMD check --install=check:widgetTools.install-out.txt --library=/Library/Frameworks/R.framework/Resources/library --no-vignettes --timings widgetTools_1.82.0.tar.gz
###
##############################################################################
##############################################################################


* using log directory ‘/Users/biocbuild/bbs-3.19-bioc/meat/widgetTools.Rcheck’
* using R version 4.4.1 (2024-06-14)
* using platform: aarch64-apple-darwin20
* R was compiled by
    Apple clang version 14.0.0 (clang-1400.0.29.202)
    GNU Fortran (GCC) 12.2.0
* running under: macOS Ventura 13.6.6
* using session charset: UTF-8
* using option ‘--no-vignettes’
* checking for file ‘widgetTools/DESCRIPTION’ ... OK
* this is package ‘widgetTools’ version ‘1.82.0’
* checking package namespace information ... OK
* checking package dependencies ... OK
* checking if this is a source package ... OK
* checking if there is a namespace ... OK
* checking for hidden files and directories ... OK
* checking for portable file names ... OK
* checking for sufficient/correct file permissions ... OK
* checking whether package ‘widgetTools’ can be installed ... OK
* checking installed package size ... OK
* checking package directory ... OK
* checking ‘build’ directory ... OK
* checking DESCRIPTION meta-information ... NOTE
Malformed Description field: should contain one or more complete sentences.
* checking top-level files ... OK
* checking for left-over files ... OK
* checking index information ... OK
* checking package subdirectories ... OK
* checking code files for non-ASCII characters ... OK
* checking R files for syntax errors ... OK
* checking whether the package can be loaded ... OK
* checking whether the package can be loaded with stated dependencies ... OK
* checking whether the package can be unloaded cleanly ... OK
* checking whether the namespace can be loaded with stated dependencies ... OK
* checking whether the namespace can be unloaded cleanly ... OK
* checking whether startup messages can be suppressed ... OK
* checking dependencies in R code ... NOTE
'library' or 'require' call to ‘methods’ which was already attached by Depends.
  Please remove these calls from your code.
'library' or 'require' call to ‘Biobase’ in package code.
  Please use :: or requireNamespace() instead.
  See section 'Suggested packages' in the 'Writing R Extensions' manual.
Package in Depends field not imported from: ‘tcltk’
  These packages need to be imported from (in the NAMESPACE file)
  for when this namespace is loaded but not attached.
* checking S3 generic/method consistency ... OK
* checking replacement functions ... OK
* checking foreign function calls ... OK
* checking R code for possible problems ... NOTE
File ‘widgetTools/R/zzz.R’:
  .onLoad has wrong argument list ‘libname, pkgname, where’
  .onLoad calls:
    require("methods", quietly = TRUE)
  .onAttach calls:
    require("Biobase")

Package startup functions should have two arguments with names starting
  with ‘lib’ and ‘pkg’, respectively.
Package startup functions should not change the search path.
See section ‘Good practice’ in '?.onAttach'.

.getChanges: warning in get(wName(pWidgets[[i]]), env =
  wEnv(pWidgets[[i]])): partial argument match of 'env' to 'envir'
.putPW2Env : putOne: warning in assign(wName(pWidget), pWidget, env =
  wEnv(pWidget)): partial argument match of 'env' to 'envir'
updateCheck,widget: warning in get(PWName, env = wEnv(object)): partial
  argument match of 'env' to 'envir'
updateCheck,widget: warning in assign(wName(tempPW), tempPW, env =
  wEnv(tempPW)): partial argument match of 'env' to 'envir'
updateList,widget: warning in get(PWName, env = wEnv(object)): partial
  argument match of 'env' to 'envir'
updateList,widget: warning in assign(wName(tempPW), tempPW, env =
  wEnv(tempPW)): partial argument match of 'env' to 'envir'
updateRadio,widget: warning in get(PWName, env = wEnv(object)): partial
  argument match of 'env' to 'envir'
updateRadio,widget: warning in assign(wName(tempPW), tempPW, env =
  wEnv(tempPW)): partial argument match of 'env' to 'envir'
updateText,widget: warning in get(PWName, env = wEnv(object)): partial
  argument match of 'env' to 'envir'
updateText,widget: warning in assign(wName(tempPW), tempPW, env =
  wEnv(tempPW)): partial argument match of 'env' to 'envir'
.doList: no visible global function definition for ‘tklistbox’
.doText: no visible global function definition for ‘tktext’
.doText: no visible global function definition for ‘tkinsert’
.doWidgets : doOne: no visible global function definition for ‘tkframe’
.doWidgets : doOne: no visible global function definition for ‘tclVar’
.doWidgets : doOne: no visible global function definition for
  ‘tkconfigure’
.doWidgets : doOne: no visible global function definition for ‘tkpack’
.doWidgets : doOne : <anonymous>: no visible global function definition
  for ‘tkfocus’
.doWidgets : doOne: no visible global function definition for ‘tkbind’
.doWidgets : doRow: no visible global function definition for ‘tkframe’
.doWidgets : doRow: no visible global function definition for ‘tkpack’
.getViewer: no visible global function definition for ‘tkcanvas’
.getViewer: no visible global function definition for ‘tkconfigure’
.onAttach: no visible global function definition for ‘addVigs2WinMenu’
.renderButton: no visible global function definition for ‘tkbutton’
.renderButton : <anonymous>: no visible global function definition for
  ‘tkfocus’
.renderButton: no visible global function definition for ‘tkconfigure’
.renderCheck: no visible global function definition for ‘tkcheckbutton’
.renderCheck: no visible global function definition for ‘tkselect’
.renderEntry: no visible global function definition for ‘tkentry’
.renderLabel: no visible global function definition for ‘tklabel’
.renderRadio: no visible global function definition for ‘tkradiobutton’
.renderViewer: no visible global function definition for ‘tkframe’
.renderViewer: no visible global function definition for ‘tkconfigure’
.renderViewer: no visible global function definition for ‘tkpack’
.renew : renewOne: no visible global function definition for ‘tkselect’
.renew : renewOne: no visible global function definition for
  ‘tkdeselect’
dropdownList : upDateEntry: no visible global function definition for
  ‘tkconfigure’
dropdownList: no visible global function definition for ‘tkmessageBox’
dropdownList: no visible global function definition for ‘tclvalue<-’
dropdownList: no visible global function definition for ‘tkframe’
dropdownList: no visible global function definition for ‘tkentry’
dropdownList: no visible global function definition for ‘tkconfigure’
dropdownList: no visible global function definition for ‘tkpack’
dropdownList: no visible global function definition for ‘tkbutton’
getEntryValue: no visible global function definition for ‘tclvalue’
getEntryValue: no visible global function definition for ‘tkget’
getListOption : end: no visible global function definition for ‘tclObj’
getListOption : end: no visible global function definition for
  ‘tkcurselection’
getListOption : end: no visible global function definition for
  ‘tkgrab.release’
getListOption : end: no visible global function definition for
  ‘tkdestroy’
getListOption: no visible global function definition for ‘tclVar’
getListOption: no visible global function definition for ‘tclObj<-’
getListOption: no visible global function definition for ‘tkwinfo’
getListOption: no visible global function definition for
  ‘tkwm.overrideredirect’
getListOption: no visible global function definition for ‘tktoplevel’
getListOption: no visible global function definition for ‘tkdestroy’
getListOption: no visible global function definition for
  ‘tkwm.geometry’
getListOption: no visible global function definition for ‘tklistbox’
getListOption: no visible global function definition for ‘tkscrollbar’
getListOption : <anonymous>: no visible global function definition for
  ‘tkyview’
getListOption: no visible global function definition for ‘tkconfigure’
getListOption : <anonymous>: no visible global function definition for
  ‘tkset’
getListOption: no visible global function definition for ‘tkpack’
getListOption: no visible global function definition for ‘tkbind’
getListOption: no visible global function definition for ‘tkgrab.set’
getListOption: no visible global function definition for
  ‘tkwait.window’
getListValue: no visible global function definition for
  ‘tkcurselection’
getListValue: no visible global function definition for ‘tkget’
getTextValue: no visible global function definition for ‘tclvalue’
getTextValue: no visible global function definition for ‘tkget’
makeViewer: no visible global function definition for ‘tkscrollbar’
makeViewer : <anonymous>: no visible global function definition for
  ‘tkyview’
makeViewer: no visible global function definition for ‘tkconfigure’
makeViewer : <anonymous>: no visible global function definition for
  ‘tkset’
makeViewer: no visible global function definition for ‘tkpack’
makeViewer : <anonymous>: no visible global function definition for
  ‘tkxview’
oneVScrList: no visible global function definition for ‘tkframe’
oneVScrList: no visible global function definition for ‘tkpack’
oneVScrList: no visible global function definition for ‘tkbutton’
oneVScrList: no visible global function definition for ‘tklistbox’
oneVScrList : bindYView: no visible global function definition for
  ‘tkyview’
oneVScrList: no visible global function definition for ‘tkscrollbar’
oneVScrList: no visible global function definition for ‘tkconfigure’
oneVScrList : <anonymous>: no visible global function definition for
  ‘tkset’
tooltip : end: no visible global function definition for ‘tkdestroy’
tooltip: no visible global function definition for ‘tkwinfo’
tooltip: no visible global function definition for
  ‘tkwm.overrideredirect’
tooltip: no visible global function definition for ‘tktoplevel’
tooltip: no visible global function definition for ‘tkdestroy’
tooltip: no visible global function definition for ‘tkwm.geometry’
tooltip: no visible global function definition for ‘tklabel’
tooltip: no visible global function definition for ‘tkpack’
tooltip: no visible global function definition for ‘tkbind’
tooltip: no visible global function definition for ‘tkwait.window’
widget: no visible global function definition for ‘tkgrab.set’
widget : cancelBut: no visible global function definition for
  ‘tkgrab.release’
widget: no visible global function definition for ‘tcl’
widgetView: no visible global function definition for ‘tktoplevel’
widgetView: no visible global function definition for ‘tktitle<-’
writeList: no visible global function definition for ‘capture.output’
writeList: no visible global function definition for ‘tkdelete’
writeList: no visible binding for global variable ‘tkinsert’
writeText: no visible global function definition for ‘capture.output’
writeText: no visible global function definition for ‘tkdelete’
writeText: no visible global function definition for ‘tkinsert’
killWin,widgetView: no visible global function definition for
  ‘tkdestroy’
updateList,widget: no visible binding for global variable ‘bName’
winWait,widgetView: no visible global function definition for
  ‘tkwait.window’
Undefined global functions or variables:
  addVigs2WinMenu bName capture.output tcl tclObj tclObj<- tclVar
  tclvalue tclvalue<- tkbind tkbutton tkcanvas tkcheckbutton
  tkconfigure tkcurselection tkdelete tkdeselect tkdestroy tkentry
  tkfocus tkframe tkget tkgrab.release tkgrab.set tkinsert tklabel
  tklistbox tkmessageBox tkpack tkradiobutton tkscrollbar tkselect
  tkset tktext tktitle<- tktoplevel tkwait.window tkwinfo tkwm.geometry
  tkwm.overrideredirect tkxview tkyview
Consider adding
  importFrom("utils", "capture.output")
to your NAMESPACE file.
* checking Rd files ... OK
* checking Rd metadata ... OK
* checking Rd cross-references ... OK
* checking for missing documentation entries ... OK
* checking for code/documentation mismatches ... OK
* checking Rd \usage sections ... OK
* checking Rd contents ... OK
* checking for unstated dependencies in examples ... OK
* checking sizes of PDF files under ‘inst/doc’ ... OK
* checking files in ‘vignettes’ ... OK
* checking examples ... OK
* checking for unstated dependencies in vignettes ... OK
* checking package vignettes ... OK
* checking running R code from vignettes ... SKIPPED
* checking re-building of vignette outputs ... SKIPPED
* checking PDF version of manual ... OK
* DONE

Status: 3 NOTEs
See
  ‘/Users/biocbuild/bbs-3.19-bioc/meat/widgetTools.Rcheck/00check.log’
for details.


Installation output

widgetTools.Rcheck/00install.out

##############################################################################
##############################################################################
###
### Running command:
###
###   /Library/Frameworks/R.framework/Resources/bin/R CMD INSTALL widgetTools
###
##############################################################################
##############################################################################


* installing to library ‘/Library/Frameworks/R.framework/Versions/4.4-arm64/Resources/library’
* installing *source* package ‘widgetTools’ ...
** using staged installation
** R
** byte-compile and prepare package for lazy loading
** help
*** installing help indices
** building package indices
** installing vignettes
** testing if installed package can be loaded from temporary location
** testing if installed package can be loaded from final location
** testing if installed package keeps a record of temporary installation path
* DONE (widgetTools)

Tests output


Example timings

widgetTools.Rcheck/widgetTools-Ex.timings

nameusersystemelapsed
basicPW-class0.0130.0010.014
button0.0060.0010.006
dropdownList000
makeViewer000
oneVScrList0.0000.0010.000
safeFileOpen0.0010.0010.004
tooltip000
widget-class0.0060.0010.007
widgetView-class0.0000.0000.001
writeText000