Back to Multiple platform build/check report for BioC 3.18:   simplified   long
ABCDEFGHIJKLMNOPQRS[T]UVWXYZ

This page was generated on 2024-02-20 11:37:29 -0500 (Tue, 20 Feb 2024).

HostnameOSArch (*)R versionInstalled pkgs
nebbiolo2Linux (Ubuntu 22.04.3 LTS)x86_644.3.2 Patched (2023-11-13 r85521) -- "Eye Holes" 4690
palomino4Windows Server 2022 Datacenterx644.3.2 (2023-10-31 ucrt) -- "Eye Holes" 4443
lconwaymacOS 12.7.1 Montereyx86_644.3.2 Patched (2023-11-01 r85457) -- "Eye Holes" 4464
Click on any hostname to see more info about the system (e.g. compilers)      (*) as reported by 'uname -p', except on Windows and Mac OS X

Package 2165/2266HostnameOS / ArchINSTALLBUILDCHECKBUILD BIN
tRanslatome 1.40.0  (landing page)
Toma Tebaldi , Erik Dassi
Snapshot Date: 2024-02-19 14:05:07 -0500 (Mon, 19 Feb 2024)
git_url: https://git.bioconductor.org/packages/tRanslatome
git_branch: RELEASE_3_18
git_last_commit: cc9f72e
git_last_commit_date: 2023-10-24 09:54:10 -0500 (Tue, 24 Oct 2023)
nebbiolo2Linux (Ubuntu 22.04.3 LTS) / x86_64  OK    OK    OK  UNNEEDED, same version is already published
palomino4Windows Server 2022 Datacenter / x64  OK    OK    OK    OK  UNNEEDED, same version is already published
lconwaymacOS 12.7.1 Monterey / x86_64  OK    OK    OK    OK  UNNEEDED, same version is already published
kjohnson1macOS 13.6.1 Ventura / arm64see weekly results here

CHECK results for tRanslatome on palomino4


To the developers/maintainers of the tRanslatome package:
- Allow up to 24 hours (and sometimes 48 hours) for your latest push to git@git.bioconductor.org:packages/tRanslatome.git to reflect on this report. See Troubleshooting Build Report for more information.
- Use the following Renviron settings to reproduce errors and warnings.
- If 'R CMD check' started to fail recently on the Linux builder(s) over a missing dependency, add the missing dependency to 'Suggests:' in your DESCRIPTION file. See Renviron.bioc for more information.

raw results


Summary

Package: tRanslatome
Version: 1.40.0
Command: F:\biocbuild\bbs-3.18-bioc\R\bin\R.exe CMD check --no-multiarch --install=check:tRanslatome.install-out.txt --library=F:\biocbuild\bbs-3.18-bioc\R\library --no-vignettes --timings tRanslatome_1.40.0.tar.gz
StartedAt: 2024-02-20 07:31:01 -0500 (Tue, 20 Feb 2024)
EndedAt: 2024-02-20 07:35:55 -0500 (Tue, 20 Feb 2024)
EllapsedTime: 294.4 seconds
RetCode: 0
Status:   OK  
CheckDir: tRanslatome.Rcheck
Warnings: 0

Command output

##############################################################################
##############################################################################
###
### Running command:
###
###   F:\biocbuild\bbs-3.18-bioc\R\bin\R.exe CMD check --no-multiarch --install=check:tRanslatome.install-out.txt --library=F:\biocbuild\bbs-3.18-bioc\R\library --no-vignettes --timings tRanslatome_1.40.0.tar.gz
###
##############################################################################
##############################################################################


* using log directory 'F:/biocbuild/bbs-3.18-bioc/meat/tRanslatome.Rcheck'
* using R version 4.3.2 (2023-10-31 ucrt)
* using platform: x86_64-w64-mingw32 (64-bit)
* R was compiled by
    gcc.exe (GCC) 12.3.0
    GNU Fortran (GCC) 12.3.0
* running under: Windows Server 2022 x64 (build 20348)
* using session charset: UTF-8
* using option '--no-vignettes'
* checking for file 'tRanslatome/DESCRIPTION' ... OK
* checking extension type ... Package
* this is package 'tRanslatome' version '1.40.0'
* checking package namespace information ... OK
* checking package dependencies ... NOTE
Depends: includes the non-default packages:
  'limma', 'anota', 'DESeq2', 'edgeR', 'RankProd', 'topGO',
  'org.Hs.eg.db', 'GOSemSim', 'Heatplus', 'gplots', 'plotrix',
  'Biobase'
Adding so many packages to the search path is excessive and importing
selectively is preferable.
* checking if this is a source package ... OK
* checking if there is a namespace ... OK
* checking for hidden files and directories ... OK
* checking for portable file names ... OK
* checking whether package 'tRanslatome' can be installed ... OK
* checking installed package size ... OK
* checking package directory ... OK
* checking 'build' directory ... OK
* checking DESCRIPTION meta-information ... OK
* checking top-level files ... OK
* checking for left-over files ... OK
* checking index information ... OK
* checking package subdirectories ... OK
* checking R files for non-ASCII characters ... OK
* checking R files for syntax errors ... OK
* checking whether the package can be loaded ... OK
* checking whether the package can be loaded with stated dependencies ... OK
* checking whether the package can be unloaded cleanly ... OK
* checking whether the namespace can be loaded with stated dependencies ... OK
* checking whether the namespace can be unloaded cleanly ... OK
* checking dependencies in R code ... OK
* checking S3 generic/method consistency ... OK
* checking replacement functions ... OK
* checking foreign function calls ... OK
* checking R code for possible problems ... NOTE
methodLimma: no visible global function definition for 'lmFit'
methodTTest: no visible global function definition for 'calcTStatFast'
GOEnrichment,DEGs: no visible global function definition for 'toTable'
Undefined global functions or variables:
  calcTStatFast lmFit toTable
* checking Rd files ... OK
* checking Rd metadata ... OK
* checking Rd cross-references ... OK
* checking for missing documentation entries ... OK
* checking for code/documentation mismatches ... OK
* checking Rd \usage sections ... OK
* checking Rd contents ... OK
* checking for unstated dependencies in examples ... OK
* checking contents of 'data' directory ... OK
* checking data for non-ASCII characters ... OK
* checking data for ASCII and uncompressed saves ... OK
* checking sizes of PDF files under 'inst/doc' ... OK
* checking files in 'vignettes' ... OK
* checking examples ... OK
Examples with CPU (user + system) or elapsed time > 5s
              user system elapsed
GOComparison 12.47   0.86   13.34
GOEnrichment 13.18   0.14   13.33
* checking for unstated dependencies in vignettes ... OK
* checking package vignettes in 'inst/doc' ... OK
* checking running R code from vignettes ... SKIPPED
* checking re-building of vignette outputs ... SKIPPED
* checking PDF version of manual ... OK
* DONE

Status: 2 NOTEs
See
  'F:/biocbuild/bbs-3.18-bioc/meat/tRanslatome.Rcheck/00check.log'
for details.



Installation output

tRanslatome.Rcheck/00install.out

##############################################################################
##############################################################################
###
### Running command:
###
###   F:\biocbuild\bbs-3.18-bioc\R\bin\R.exe CMD INSTALL tRanslatome
###
##############################################################################
##############################################################################


* installing to library 'F:/biocbuild/bbs-3.18-bioc/R/library'
* installing *source* package 'tRanslatome' ...
** using staged installation
** R
** data
** byte-compile and prepare package for lazy loading

groupGOTerms: 	GOBPTerm, GOMFTerm, GOCCTerm environments built.
** help
*** installing help indices
** building package indices
** installing vignettes
** testing if installed package can be loaded from temporary location

groupGOTerms: 	GOBPTerm, GOMFTerm, GOCCTerm environments built.
** testing if installed package can be loaded from final location

groupGOTerms: 	GOBPTerm, GOMFTerm, GOCCTerm environments built.
** testing if installed package keeps a record of temporary installation path
* DONE (tRanslatome)

Tests output


Example timings

tRanslatome.Rcheck/tRanslatome-Ex.timings

nameusersystemelapsed
CVplot0.090.000.09
DEGs000
DEGs.table0.110.090.20
EnrichedSets000
FC.threshold0.050.000.05
GOComparison12.47 0.8613.34
GOEnrichment13.18 0.1413.33
GOsets000
GOsims000
Heatmap0.110.000.11
Histogram0.040.010.06
IdentityPlot0.020.050.06
MAplot0.060.020.08
Radar0.080.010.09
RegulatoryEnrichment1.340.071.41
SDplot0.070.010.08
Scatterplot0.090.020.11
SimilarityPlot0.050.010.06
TranslatomeDataset000
average.similarity.scores0.030.020.05
computeDEGs0.280.010.29
enriched.table0.050.020.07
getConditionA0.030.010.04
getConditionB0.050.020.06
getConditionC0.030.020.05
getConditionD0.030.010.05
getConditionLabels0.050.000.05
getDEGs0.030.020.05
getDEGsMethod0.030.010.04
getDataType0.050.000.05
getExprMatrix0.060.070.12
getLevelLabels0.030.010.05
identity.matrix0.050.020.06
label.condition0.040.000.05
label.level.DEGs0.030.010.05
label.level.enriched0.050.020.06
newTranslatomeDataset0.050.000.04
significance.threshold0.040.000.05
similarity.matrix0.040.030.06
tRanslatomeSampleData0.040.000.05