Back to Multiple platform build/check report for BioC 3.19:   simplified   long
ABCDEFGHIJKLMNOPQR[S]TUVWXYZ

This page was generated on 2024-05-25 11:35:59 -0400 (Sat, 25 May 2024).

HostnameOSArch (*)R versionInstalled pkgs
nebbiolo1Linux (Ubuntu 22.04.3 LTS)x86_644.4.0 (2024-04-24) -- "Puppy Cup" 4751
lconwaymacOS 12.7.1 Montereyx86_644.4.0 (2024-04-24) -- "Puppy Cup" 4516
Click on any hostname to see more info about the system (e.g. compilers)      (*) as reported by 'uname -p', except on Windows and Mac OS X

Package 2087/2300HostnameOS / ArchINSTALLBUILDCHECKBUILD BIN
stepNorm 1.76.0  (landing page)
Yuanyuan Xiao
Snapshot Date: 2024-05-24 14:00:07 -0400 (Fri, 24 May 2024)
git_url: https://git.bioconductor.org/packages/stepNorm
git_branch: RELEASE_3_19
git_last_commit: 1ee23f5
git_last_commit_date: 2024-04-30 10:13:13 -0400 (Tue, 30 Apr 2024)
nebbiolo1Linux (Ubuntu 22.04.3 LTS) / x86_64  OK    OK    OK  UNNEEDED, same version is already published
lconwaymacOS 12.7.1 Monterey / x86_64  OK    OK    OK    OK  UNNEEDED, same version is already published
kjohnson3macOS 13.6.5 Ventura / arm64see weekly results here

BUILD results for stepNorm on lconway


To the developers/maintainers of the stepNorm package:
- Allow up to 24 hours (and sometimes 48 hours) for your latest push to git@git.bioconductor.org:packages/stepNorm.git to reflect on this report. See Troubleshooting Build Report for more information.
- Use the following Renviron settings to reproduce errors and warnings.
- If 'R CMD check' started to fail recently on the Linux builder(s) over a missing dependency, add the missing dependency to 'Suggests:' in your DESCRIPTION file. See Renviron.bioc for more information.

raw results


Summary

Package: stepNorm
Version: 1.76.0
Command: /Library/Frameworks/R.framework/Resources/bin/R CMD build --keep-empty-dirs --no-resave-data stepNorm
StartedAt: 2024-05-24 18:39:51 -0400 (Fri, 24 May 2024)
EndedAt: 2024-05-24 18:39:53 -0400 (Fri, 24 May 2024)
EllapsedTime: 2.3 seconds
RetCode: 0
Status:   OK  
PackageFile: stepNorm_1.76.0.tar.gz
PackageFileSize: 460.2 KiB

Command output

##############################################################################
##############################################################################
###
### Running command:
###
###   /Library/Frameworks/R.framework/Resources/bin/R CMD build --keep-empty-dirs --no-resave-data stepNorm
###
##############################################################################
##############################################################################


* checking for file ‘stepNorm/DESCRIPTION’ ... OK
* preparing ‘stepNorm’:
* checking DESCRIPTION meta-information ... OK
* checking for LF line-endings in source and make files and shell scripts
* checking for empty or unneeded directories
* building ‘stepNorm_1.76.0.tar.gz’