Index of /checkResults/release/bioc-LATEST/scviR/raw-results

[ICO]NameLast modifiedSizeDescription

[DIR]Parent Directory  -  
[   ]info.dcf12-Dec-2023 01:38 273  
[DIR]kunpeng2/03-Nov-2023 00:41 -  
[DIR]lconway/12-Dec-2023 01:38 -  
[DIR]nebbiolo2/12-Dec-2023 01:36 -