Index of /checkResults/release/bioc-LATEST/scviR/raw-results/lconway
Name
Last modified
Size
Description
Parent Directory
-
buildsrc-out.txt
21-May-2024 00:38
2.6K
buildsrc-summary.dcf
21-May-2024 00:38
339
install-out.txt
21-May-2024 00:38
1.0K
install-summary.dcf
21-May-2024 00:38
264