Index of /checkResults/release/bioc-LATEST/scviR/raw-results/merida1
Name
Last modified
Size
Description
Parent Directory
-
buildsrc-out.txt
05-Mar-2024 01:39
1.6K
buildsrc-summary.dcf
05-Mar-2024 01:39
339
install-out.txt
05-Mar-2024 01:39
1.0K
install-summary.dcf
05-Mar-2024 01:39
264