Back to Multiple platform build/check report for BioC 3.16:   simplified   long
ABCDEFGHIJKLMNOPQR[S]TUVWXYZ

This page was generated on 2023-03-22 11:06:23 -0400 (Wed, 22 Mar 2023).

HostnameOSArch (*)R versionInstalled pkgs
nebbiolo2Linux (Ubuntu 20.04.5 LTS)x86_644.2.3 (2023-03-15) -- "Shortstop Beagle" 4271
palomino4Windows Server 2022 Datacenterx644.2.3 (2023-03-15 ucrt) -- "Shortstop Beagle" 4214
lconwaymacOS 12.5.1 Montereyx86_644.2.3 (2023-03-15) -- "Shortstop Beagle" 4259
Click on any hostname to see more info about the system (e.g. compilers)      (*) as reported by 'uname -p', except on Windows and Mac OS X

CHECK results for scHOT on lconway


To the developers/maintainers of the scHOT package:
- Please allow up to 24 hours (and sometimes 48 hours) for your latest push to git@git.bioconductor.org:packages/scHOT.git to
reflect on this report. See How and When does the builder pull? When will my changes propagate? for more information.
- Make sure to use the following settings in order to reproduce any error or warning you see on this page.

raw results

Package 1801/2183HostnameOS / ArchINSTALLBUILDCHECKBUILD BIN
scHOT 1.10.0  (landing page)
Shila Ghazanfar
Snapshot Date: 2023-03-20 14:00:04 -0400 (Mon, 20 Mar 2023)
git_url: https://git.bioconductor.org/packages/scHOT
git_branch: RELEASE_3_16
git_last_commit: 5082c3d
git_last_commit_date: 2022-11-01 11:21:48 -0400 (Tue, 01 Nov 2022)
nebbiolo2Linux (Ubuntu 20.04.5 LTS) / x86_64  OK    OK    WARNINGS  UNNEEDED, same version is already published
palomino4Windows Server 2022 Datacenter / x64  OK    OK    OK    OK  UNNEEDED, same version is already published
lconwaymacOS 12.5.1 Monterey / x86_64  OK    OK    OK    OK  UNNEEDED, same version is already published

Summary

Package: scHOT
Version: 1.10.0
Command: /Library/Frameworks/R.framework/Resources/bin/R CMD check --install=check:scHOT.install-out.txt --library=/Library/Frameworks/R.framework/Resources/library --no-vignettes --timings scHOT_1.10.0.tar.gz
StartedAt: 2023-03-20 22:45:39 -0400 (Mon, 20 Mar 2023)
EndedAt: 2023-03-20 22:51:11 -0400 (Mon, 20 Mar 2023)
EllapsedTime: 332.0 seconds
RetCode: 0
Status:   OK  
CheckDir: scHOT.Rcheck
Warnings: 0

Command output

##############################################################################
##############################################################################
###
### Running command:
###
###   /Library/Frameworks/R.framework/Resources/bin/R CMD check --install=check:scHOT.install-out.txt --library=/Library/Frameworks/R.framework/Resources/library --no-vignettes --timings scHOT_1.10.0.tar.gz
###
##############################################################################
##############################################################################


* using log directory ‘/Users/biocbuild/bbs-3.16-bioc/meat/scHOT.Rcheck’
* using R version 4.2.3 (2023-03-15)
* using platform: x86_64-apple-darwin17.0 (64-bit)
* using session charset: UTF-8
* using option ‘--no-vignettes’
* checking for file ‘scHOT/DESCRIPTION’ ... OK
* checking extension type ... Package
* this is package ‘scHOT’ version ‘1.10.0’
* package encoding: UTF-8
* checking package namespace information ... OK
* checking package dependencies ... OK
* checking if this is a source package ... OK
* checking if there is a namespace ... OK
* checking for hidden files and directories ... OK
* checking for portable file names ... OK
* checking for sufficient/correct file permissions ... OK
* checking whether package ‘scHOT’ can be installed ... OK
* checking installed package size ... OK
* checking package directory ... OK
* checking ‘build’ directory ... OK
* checking DESCRIPTION meta-information ... OK
* checking top-level files ... OK
* checking for left-over files ... OK
* checking index information ... OK
* checking package subdirectories ... OK
* checking R files for non-ASCII characters ... OK
* checking R files for syntax errors ... OK
* checking whether the package can be loaded ... OK
* checking whether the package can be loaded with stated dependencies ... OK
* checking whether the package can be unloaded cleanly ... OK
* checking whether the namespace can be loaded with stated dependencies ... OK
* checking whether the namespace can be unloaded cleanly ... OK
* checking dependencies in R code ... OK
* checking S3 generic/method consistency ... OK
* checking replacement functions ... OK
* checking foreign function calls ... OK
* checking R code for possible problems ... OK
* checking Rd files ... OK
* checking Rd metadata ... OK
* checking Rd cross-references ... OK
* checking for missing documentation entries ... OK
* checking for code/documentation mismatches ... OK
* checking Rd \usage sections ... OK
* checking Rd contents ... OK
* checking for unstated dependencies in examples ... OK
* checking contents of ‘data’ directory ... OK
* checking data for non-ASCII characters ... OK
* checking LazyData ... OK
* checking data for ASCII and uncompressed saves ... OK
* checking files in ‘vignettes’ ... OK
* checking examples ... OK
Examples with CPU (user + system) or elapsed time > 5s
                               user system elapsed
scHOT                        58.104  1.227  59.601
scHOT_performPermutationTest 57.064  1.239  58.605
scHOT_estimatePvalues        54.831  1.354  56.447
* checking for unstated dependencies in vignettes ... OK
* checking package vignettes in ‘inst/doc’ ... OK
* checking running R code from vignettes ... SKIPPED
* checking re-building of vignette outputs ... SKIPPED
* checking PDF version of manual ... OK
* DONE

Status: OK


Installation output

scHOT.Rcheck/00install.out

##############################################################################
##############################################################################
###
### Running command:
###
###   /Library/Frameworks/R.framework/Resources/bin/R CMD INSTALL scHOT
###
##############################################################################
##############################################################################


* installing to library ‘/Library/Frameworks/R.framework/Versions/4.2/Resources/library’
* installing *source* package ‘scHOT’ ...
** using staged installation
** R
** data
*** moving datasets to lazyload DB
** byte-compile and prepare package for lazy loading
** help
*** installing help indices
** building package indices
** installing vignettes
** testing if installed package can be loaded from temporary location
** testing if installed package can be loaded from final location
** testing if installed package keeps a record of temporary installation path
* DONE (scHOT)

Tests output


Example timings

scHOT.Rcheck/scHOT-Ex.timings

nameusersystemelapsed
params-set0.7460.0100.759
plotColouredExpression0.8470.0830.935
plotHigherOrderSequence1.7770.0491.839
positionColData-set0.1620.0030.167
positionType-set0.1430.0030.146
scHOT58.104 1.22759.601
scHOT_addTestingScaffold0.1400.0020.143
scHOT_buildFromMatrix0.1180.0010.120
scHOT_buildFromSCE0.3610.0110.372
scHOT_calculateGlobalHigherOrderFunction0.1870.0040.192
scHOT_calculateHigherOrderTestStatistics0.7670.0510.823
scHOT_estimatePvalues54.831 1.35456.447
scHOT_output-set0.1160.0010.117
scHOT_performPermutationTest57.064 1.23958.605
scHOT_setPermutationScaffold0.2080.0040.213
scHOT_setWeightMatrix0.190.020.21
scHOT_stripOutput0.1290.0020.131
spatialWeightMatrix0.0020.0000.002
testingScaffold-set0.1360.0010.138
thin0.0090.0010.010
trajectoryWeightMatrix0.0020.0000.002
weightMatrix-set0.3060.0130.320
weightedPearson000
weightedSpearman000
weightedVariance0.0010.0000.000
weightedZIKendall0.0010.0000.001
weightedZISpearman0.0010.0010.000