Index of /checkResults/release/bioc-LATEST/profileplyr/raw-results
Name
Last modified
Size
Description
Parent Directory
-
info.dcf
26-Sep-2023 00:37
320
merida1/
26-Sep-2023 00:37
-
nebbiolo1/
26-Sep-2023 00:35
-
palomino3/
26-Sep-2023 00:36
-