Index of /checkResults/release/bioc-LATEST/profileplyr/raw-results/lconway

[ICO]NameLast modifiedSizeDescription

[DIR]Parent Directory  -  
[TXT]buildbin-out.txt02-Mar-2024 01:38 1.2K 
[   ]buildbin-summary.dcf02-Mar-2024 01:38 554  
[TXT]buildsrc-out.txt02-Mar-2024 01:38 895  
[   ]buildsrc-summary.dcf02-Mar-2024 01:38 440  
[TXT]checksrc-out.txt02-Mar-2024 01:38 4.1K 
[   ]checksrc-summary.dcf02-Mar-2024 01:38 460  
[TXT]install-out.txt02-Mar-2024 01:38 1.0K 
[   ]install-summary.dcf02-Mar-2024 01:38 277