![]() | Name | Last modified | Size | Description |
---|---|---|---|---|
![]() | Parent Directory | - | ||
![]() | buildbin-out.txt | 23-Sep-2023 00:36 | 1.1K | |
![]() | buildbin-summary.dcf | 23-Sep-2023 00:36 | 539 | |
![]() | buildsrc-out.txt | 23-Sep-2023 00:36 | 919 | |
![]() | buildsrc-summary.dcf | 23-Sep-2023 00:36 | 469 | |
![]() | checksrc-out.txt | 23-Sep-2023 00:36 | 4.0K | |
![]() | checksrc-summary.dcf | 23-Sep-2023 00:36 | 463 | |
![]() | install-out.txt | 23-Sep-2023 00:36 | 1.0K | |
![]() | install-summary.dcf | 23-Sep-2023 00:36 | 276 | |