Back to Multiple platform build/check report for BioC 3.12
ABCDEFGHIJKLMNO[P]QRSTUVWXYZ

BUILD report for plgem on merida1

This page was generated on 2021-01-19 11:58:08 -0500 (Tue, 19 Jan 2021).

TO THE DEVELOPERS/MAINTAINERS OF THE plgem PACKAGE: Please make sure to use the following settings in order to reproduce any error or warning you see on this page.
Package 1355/1974HostnameOS / ArchINSTALLBUILDCHECKBUILD BIN
plgem 1.62.0
Norman Pavelka
Snapshot Date: 2021-01-18 14:42:24 -0500 (Mon, 18 Jan 2021)
URL: https://git.bioconductor.org/packages/plgem
Branch: RELEASE_3_12
Last Commit: 42d15c7
Last Changed Date: 2020-10-27 10:25:41 -0500 (Tue, 27 Oct 2020)
malbec1 Linux (Ubuntu 18.04.5 LTS) / x86_64  OK  OK  OK UNNEEDED, same version exists in internal repository
nebbiolo1 Linux (Ubuntu 20.04.1 LTS) / x86_64  OK  OK  OK 
tokay1 Windows Server 2012 R2 Standard / x64  OK  OK  OK  OK UNNEEDED, same version exists in internal repository
merida1 macOS 10.14.6 Mojave / x86_64  OK [ OK ] OK  OK UNNEEDED, same version exists in internal repository

Summary

Package: plgem
Version: 1.62.0
Command: /Library/Frameworks/R.framework/Versions/Current/Resources/bin/R CMD build --keep-empty-dirs --no-resave-data plgem
StartedAt: 2021-01-18 21:24:58 -0500 (Mon, 18 Jan 2021)
EndedAt: 2021-01-18 21:25:22 -0500 (Mon, 18 Jan 2021)
EllapsedTime: 23.8 seconds
RetCode: 0
Status:  OK 
PackageFile: plgem_1.62.0.tar.gz
PackageFileSize: 967.9 KiB

Command output

##############################################################################
##############################################################################
###
### Running command:
###
###   /Library/Frameworks/R.framework/Versions/Current/Resources/bin/R CMD build --keep-empty-dirs --no-resave-data plgem
###
##############################################################################
##############################################################################


* checking for file ‘plgem/DESCRIPTION’ ... OK
* preparing ‘plgem’:
* checking DESCRIPTION meta-information ... OK
* installing the package to build vignettes
* creating vignettes ... OK
* checking for LF line-endings in source and make files and shell scripts
* checking for empty or unneeded directories
* looking to see if a ‘data/datalist’ file should be added
* building ‘plgem_1.62.0.tar.gz’