Back to Multiple platform build/check report for BioC 3.12
ABCDEFGHIJKLMNO[P]QRSTUVWXYZ

BUILD BIN report for plgem on merida1

This page was generated on 2021-01-19 11:58:08 -0500 (Tue, 19 Jan 2021).

TO THE DEVELOPERS/MAINTAINERS OF THE plgem PACKAGE: Please make sure to use the following settings in order to reproduce any error or warning you see on this page.
Package 1355/1974HostnameOS / ArchINSTALLBUILDCHECKBUILD BIN
plgem 1.62.0
Norman Pavelka
Snapshot Date: 2021-01-18 14:42:24 -0500 (Mon, 18 Jan 2021)
URL: https://git.bioconductor.org/packages/plgem
Branch: RELEASE_3_12
Last Commit: 42d15c7
Last Changed Date: 2020-10-27 10:25:41 -0500 (Tue, 27 Oct 2020)
malbec1 Linux (Ubuntu 18.04.5 LTS) / x86_64  OK  OK  OK UNNEEDED, same version exists in internal repository
nebbiolo1 Linux (Ubuntu 20.04.1 LTS) / x86_64  OK  OK  OK 
tokay1 Windows Server 2012 R2 Standard / x64  OK  OK  OK  OK UNNEEDED, same version exists in internal repository
merida1 macOS 10.14.6 Mojave / x86_64  OK  OK  OK [ OK ]UNNEEDED, same version exists in internal repository

Summary

Package: plgem
Version: 1.62.0
Command: rm -rf plgem.buildbin-libdir && mkdir plgem.buildbin-libdir && /Users/biocbuild/BBS/utils/build-universal.sh plgem_1.62.0.tar.gz /Library/Frameworks/R.framework/Versions/Current/Resources/bin/R plgem.buildbin-libdir
StartedAt: 2021-01-19 09:41:34 -0500 (Tue, 19 Jan 2021)
EndedAt: 2021-01-19 09:42:31 -0500 (Tue, 19 Jan 2021)
EllapsedTime: 56.8 seconds
RetCode: 0
Status:  OK 
PackageFile: plgem_1.62.0.tgz
PackageFileSize: 1.025 MiB

Command output

##############################################################################
##############################################################################
###
### Running command:
###
###   rm -rf plgem.buildbin-libdir && mkdir plgem.buildbin-libdir && /Users/biocbuild/BBS/utils/build-universal.sh plgem_1.62.0.tar.gz /Library/Frameworks/R.framework/Versions/Current/Resources/bin/R plgem.buildbin-libdir
###
##############################################################################
##############################################################################


>>>>>>> 
>>>>>>> INSTALLATION WITH 'R CMD INSTALL --preclean --no-multiarch --library=plgem.buildbin-libdir plgem_1.62.0.tar.gz'
>>>>>>> 

* installing *source* package ‘plgem’ ...
** using staged installation
** R
** data
** inst
** byte-compile and prepare package for lazy loading
** help
*** installing help indices
** building package indices
** installing vignettes
** testing if installed package can be loaded from temporary location
** testing if installed package can be loaded from final location
** testing if installed package keeps a record of temporary installation path
* DONE (plgem)