Back to Multiple platform build/check report for BioC 3.18:   simplified   long
ABCDEFGHIJKLMN[O]PQRSTUVWXYZ

This page was generated on 2024-02-29 11:37:04 -0500 (Thu, 29 Feb 2024).

HostnameOSArch (*)R versionInstalled pkgs
nebbiolo2Linux (Ubuntu 22.04.3 LTS)x86_644.3.2 Patched (2023-11-13 r85521) -- "Eye Holes" 4692
palomino4Windows Server 2022 Datacenterx644.3.2 (2023-10-31 ucrt) -- "Eye Holes" 4445
lconwaymacOS 12.7.1 Montereyx86_644.3.2 Patched (2023-11-01 r85457) -- "Eye Holes" 4466
Click on any hostname to see more info about the system (e.g. compilers)      (*) as reported by 'uname -p', except on Windows and Mac OS X

Package 1437/2266HostnameOS / ArchINSTALLBUILDCHECKBUILD BIN
oligo 1.66.0  (landing page)
Benilton Carvalho
Snapshot Date: 2024-02-28 14:05:05 -0500 (Wed, 28 Feb 2024)
git_url: https://git.bioconductor.org/packages/oligo
git_branch: RELEASE_3_18
git_last_commit: e6e7283
git_last_commit_date: 2023-10-24 09:35:20 -0500 (Tue, 24 Oct 2023)
nebbiolo2Linux (Ubuntu 22.04.3 LTS) / x86_64  OK    OK    WARNINGS  UNNEEDED, same version is already published
palomino4Windows Server 2022 Datacenter / x64  OK    OK    WARNINGS    OK  UNNEEDED, same version is already published
lconwaymacOS 12.7.1 Monterey / x86_64  OK    OK    WARNINGS    OK  UNNEEDED, same version is already published
kjohnson1macOS 13.6.1 Ventura / arm64see weekly results here

BUILD BIN results for oligo on palomino4


To the developers/maintainers of the oligo package:
- Allow up to 24 hours (and sometimes 48 hours) for your latest push to git@git.bioconductor.org:packages/oligo.git to reflect on this report. See Troubleshooting Build Report for more information.
- Use the following Renviron settings to reproduce errors and warnings.
- If 'R CMD check' started to fail recently on the Linux builder(s) over a missing dependency, add the missing dependency to 'Suggests:' in your DESCRIPTION file. See Renviron.bioc for more information.

raw results


Summary

Package: oligo
Version: 1.66.0
Command: rm -rf oligo.buildbin-libdir && mkdir oligo.buildbin-libdir && F:\biocbuild\bbs-3.18-bioc\R\bin\R.exe CMD INSTALL --build --library=oligo.buildbin-libdir oligo_1.66.0.tar.gz
StartedAt: 2024-02-29 08:56:47 -0500 (Thu, 29 Feb 2024)
EndedAt: 2024-02-29 08:57:54 -0500 (Thu, 29 Feb 2024)
EllapsedTime: 66.2 seconds
RetCode: 0
Status:   OK  
PackageFile: oligo_1.66.0.zip
PackageFileSize: 27.85 MiB

Command output

##############################################################################
##############################################################################
###
### Running command:
###
###   rm -rf oligo.buildbin-libdir && mkdir oligo.buildbin-libdir && F:\biocbuild\bbs-3.18-bioc\R\bin\R.exe CMD INSTALL --build --library=oligo.buildbin-libdir oligo_1.66.0.tar.gz
###
##############################################################################
##############################################################################


* installing *source* package 'oligo' ...
** using staged installation
** libs
using C compiler: 'gcc.exe (GCC) 12.3.0'
gcc  -I"F:/biocbuild/bbs-3.18-bioc/R/library/zlibbioc/include" -I"F:/biocbuild/bbs-3.18-bioc/R/include" -DNDEBUG  -I'F:/biocbuild/bbs-3.18-bioc/R/library/preprocessCore/include'   -I"C:/rtools43/x86_64-w64-mingw32.static.posix/include"     -O2 -Wall  -mfpmath=sse -msse2 -mstackrealign  -c DABG.c -o DABG.o
gcc  -I"F:/biocbuild/bbs-3.18-bioc/R/library/zlibbioc/include" -I"F:/biocbuild/bbs-3.18-bioc/R/include" -DNDEBUG  -I'F:/biocbuild/bbs-3.18-bioc/R/library/preprocessCore/include'   -I"C:/rtools43/x86_64-w64-mingw32.static.posix/include"     -O2 -Wall  -mfpmath=sse -msse2 -mstackrealign  -c ParserGzXYS.c -o ParserGzXYS.o
gcc  -I"F:/biocbuild/bbs-3.18-bioc/R/library/zlibbioc/include" -I"F:/biocbuild/bbs-3.18-bioc/R/include" -DNDEBUG  -I'F:/biocbuild/bbs-3.18-bioc/R/library/preprocessCore/include'   -I"C:/rtools43/x86_64-w64-mingw32.static.posix/include"     -O2 -Wall  -mfpmath=sse -msse2 -mstackrealign  -c ParserXYS.c -o ParserXYS.o
gcc  -I"F:/biocbuild/bbs-3.18-bioc/R/library/zlibbioc/include" -I"F:/biocbuild/bbs-3.18-bioc/R/include" -DNDEBUG  -I'F:/biocbuild/bbs-3.18-bioc/R/library/preprocessCore/include'   -I"C:/rtools43/x86_64-w64-mingw32.static.posix/include"     -O2 -Wall  -mfpmath=sse -msse2 -mstackrealign  -c baseProfile.c -o baseProfile.o
gcc  -I"F:/biocbuild/bbs-3.18-bioc/R/library/zlibbioc/include" -I"F:/biocbuild/bbs-3.18-bioc/R/include" -DNDEBUG  -I'F:/biocbuild/bbs-3.18-bioc/R/library/preprocessCore/include'   -I"C:/rtools43/x86_64-w64-mingw32.static.posix/include"     -O2 -Wall  -mfpmath=sse -msse2 -mstackrealign  -c basecontent.c -o basecontent.o
gcc  -I"F:/biocbuild/bbs-3.18-bioc/R/library/zlibbioc/include" -I"F:/biocbuild/bbs-3.18-bioc/R/include" -DNDEBUG  -I'F:/biocbuild/bbs-3.18-bioc/R/library/preprocessCore/include'   -I"C:/rtools43/x86_64-w64-mingw32.static.posix/include"     -O2 -Wall  -mfpmath=sse -msse2 -mstackrealign  -c chipbackground.c -o chipbackground.o
gcc  -I"F:/biocbuild/bbs-3.18-bioc/R/library/zlibbioc/include" -I"F:/biocbuild/bbs-3.18-bioc/R/include" -DNDEBUG  -I'F:/biocbuild/bbs-3.18-bioc/R/library/preprocessCore/include'   -I"C:/rtools43/x86_64-w64-mingw32.static.posix/include"     -O2 -Wall  -mfpmath=sse -msse2 -mstackrealign  -c mas5calls.c -o mas5calls.o
gcc  -I"F:/biocbuild/bbs-3.18-bioc/R/library/zlibbioc/include" -I"F:/biocbuild/bbs-3.18-bioc/R/include" -DNDEBUG  -I'F:/biocbuild/bbs-3.18-bioc/R/library/preprocessCore/include'   -I"C:/rtools43/x86_64-w64-mingw32.static.posix/include"     -O2 -Wall  -mfpmath=sse -msse2 -mstackrealign  -c rma2.c -o rma2.o
gcc  -I"F:/biocbuild/bbs-3.18-bioc/R/library/zlibbioc/include" -I"F:/biocbuild/bbs-3.18-bioc/R/include" -DNDEBUG  -I'F:/biocbuild/bbs-3.18-bioc/R/library/preprocessCore/include'   -I"C:/rtools43/x86_64-w64-mingw32.static.posix/include"     -O2 -Wall  -mfpmath=sse -msse2 -mstackrealign  -c rma_common.c -o rma_common.o
gcc  -I"F:/biocbuild/bbs-3.18-bioc/R/library/zlibbioc/include" -I"F:/biocbuild/bbs-3.18-bioc/R/include" -DNDEBUG  -I'F:/biocbuild/bbs-3.18-bioc/R/library/preprocessCore/include'   -I"C:/rtools43/x86_64-w64-mingw32.static.posix/include"     -O2 -Wall  -mfpmath=sse -msse2 -mstackrealign  -c trimmed.c -o trimmed.o
gcc -shared -s -static-libgcc -o oligo.dll tmp.def DABG.o ParserGzXYS.o ParserXYS.o baseProfile.o basecontent.o chipbackground.o mas5calls.o rma2.o rma_common.o trimmed.o -lgfortran -lm -lquadmath -LF:/biocbuild/bbs-3.18-bioc/R/bin/x64 -lRlapack -LF:/biocbuild/bbs-3.18-bioc/R/bin/x64 -lRblas -LF:/biocbuild/bbs-3.18-bioc/R/library/zlibbioc/libs/x64 -lzlib1bioc -LC:/rtools43/x86_64-w64-mingw32.static.posix/lib/x64 -LC:/rtools43/x86_64-w64-mingw32.static.posix/lib -LF:/biocbuild/bbs-3.18-bioc/R/bin/x64 -lR
installing to F:/biocbuild/bbs-3.18-bioc/meat/oligo.buildbin-libdir/00LOCK-oligo/00new/oligo/libs/x64
** R
** inst
** byte-compile and prepare package for lazy loading
Note: in method for 'pm<-' with signature
'object="TilingFeatureSet",subset="ANY",target="ANY",value="array"':
expanding the signature to include omitted arguments in definition:
subset = "missing", target = "missing"
Note: in method for 'mm<-' with signature
'object="TilingFeatureSet",subset="ANY",target="ANY",value="array"':
expanding the signature to include omitted arguments in definition:
subset = "missing", target = "missing"
** help
*** installing help indices
** building package indices
** installing vignettes
** testing if installed package can be loaded from temporary location
** testing if installed package can be loaded from final location
** testing if installed package keeps a record of temporary installation path
* MD5 sums
packaged installation of 'oligo' as oligo_1.66.0.zip
* DONE (oligo)