Back to Multiple platform build/check report for BioC 3.16
ABCDEFGHIJKL[M]NOPQRSTUVWXYZ

This page was generated on 2023-01-28 11:08:37 -0500 (Sat, 28 Jan 2023).

HostnameOSArch (*)R versionInstalled pkgs
nebbiolo2Linux (Ubuntu 20.04.5 LTS)x86_644.2.2 (2022-10-31) -- "Innocent and Trusting" 4510
palomino4Windows Server 2022 Datacenterx644.2.2 (2022-10-31 ucrt) -- "Innocent and Trusting" 4288
lconwaymacOS 12.5.1 Montereyx86_644.2.2 (2022-10-31) -- "Innocent and Trusting" 4317
Click on any hostname to see more info about the system (e.g. compilers)      (*) as reported by 'uname -p', except on Windows and Mac OS X

BUILD results for multiHiCcompare on lconway


To the developers/maintainers of the multiHiCcompare package:
- Please allow up to 24 hours (and sometimes 48 hours) for your latest push to git@git.bioconductor.org:packages/multiHiCcompare.git to
reflect on this report. See How and When does the builder pull? When will my changes propagate? for more information.
- Make sure to use the following settings in order to reproduce any error or warning you see on this page.

raw results

Package 1301/2183HostnameOS / ArchINSTALLBUILDCHECKBUILD BIN
multiHiCcompare 1.16.0  (landing page)
John Stansfield , Mikhail Dozmorov
Snapshot Date: 2023-01-27 14:00:04 -0500 (Fri, 27 Jan 2023)
git_url: https://git.bioconductor.org/packages/multiHiCcompare
git_branch: RELEASE_3_16
git_last_commit: 26aac53
git_last_commit_date: 2022-11-01 11:18:16 -0500 (Tue, 01 Nov 2022)
nebbiolo2Linux (Ubuntu 20.04.5 LTS) / x86_64  OK    OK    OK  UNNEEDED, same version is already published
palomino4Windows Server 2022 Datacenter / x64  OK    OK    OK    OK  UNNEEDED, same version is already published
lconwaymacOS 12.5.1 Monterey / x86_64  OK    OK    OK    OK  UNNEEDED, same version is already published

Summary

Package: multiHiCcompare
Version: 1.16.0
Command: /Library/Frameworks/R.framework/Resources/bin/R CMD build --keep-empty-dirs --no-resave-data multiHiCcompare
StartedAt: 2023-01-27 17:24:10 -0500 (Fri, 27 Jan 2023)
EndedAt: 2023-01-27 17:25:26 -0500 (Fri, 27 Jan 2023)
EllapsedTime: 76.6 seconds
RetCode: 0
Status:   OK  
PackageFile: multiHiCcompare_1.16.0.tar.gz
PackageFileSize: 4.593 MiB

Command output

##############################################################################
##############################################################################
###
### Running command:
###
###   /Library/Frameworks/R.framework/Resources/bin/R CMD build --keep-empty-dirs --no-resave-data multiHiCcompare
###
##############################################################################
##############################################################################


* checking for file ‘multiHiCcompare/DESCRIPTION’ ... OK
* preparing ‘multiHiCcompare’:
* checking DESCRIPTION meta-information ... OK
* installing the package to build vignettes
* creating vignettes ... OK
* checking for LF line-endings in source and make files and shell scripts
* checking for empty or unneeded directories
* building ‘multiHiCcompare_1.16.0.tar.gz’