Index of /checkResults/release/bioc-LATEST/miaViz/raw-results

[ICO]NameLast modifiedSizeDescription

[DIR]Parent Directory  -  
[   ]info.dcf10-Jun-2023 00:07 271  
[DIR]merida1/10-Jun-2023 00:07 -  
[DIR]nebbiolo1/10-Jun-2023 00:05 -  
[DIR]palomino3/10-Jun-2023 00:06 -